BEGIN:VCALENDAR
VERSION:2.0
PRODID:-//Trinidad &amp; Tobago Film Festival - ECPv6.15.20//NONSGML v1.0//EN
CALSCALE:GREGORIAN
METHOD:PUBLISH
X-ORIGINAL-URL:https://ttfilmfestival.com
X-WR-CALDESC:Events for Trinidad &amp; Tobago Film Festival
REFRESH-INTERVAL;VALUE=DURATION:PT1H
X-Robots-Tag:noindex
X-PUBLISHED-TTL:PT1H
BEGIN:VTIMEZONE
TZID:America/Port_of_Spain
BEGIN:STANDARD
TZOFFSETFROM:-0400
TZOFFSETTO:-0400
TZNAME:AST
DTSTART:20240101T000000
END:STANDARD
END:VTIMEZONE
BEGIN:VEVENT
DTSTART;TZID=America/Port_of_Spain:20250926T103000
DTEND;TZID=America/Port_of_Spain:20251022T120000
DTSTAMP:20260422T075637
CREATED:20250831T182503Z
LAST-MODIFIED:20250831T182525Z
UID:377752-1758882600-1761134400@ttfilmfestival.com
SUMMARY:Monikondee
DESCRIPTION:For centuries\, Suriname’s Maroons have preserved ancestral traditions and resisted capitalist encroachment. But climate change and gold mining now threaten their way of life.
URL:https://ttfilmfestival.com/event/monikondee/
LOCATION:4DX Cinema\, One Woodbrook Place\, Port of Spain\, Trinidad and Tobago
CATEGORIES:Screening
END:VEVENT
BEGIN:VEVENT
DTSTART;TZID=America/Port_of_Spain:20250926T180000
DTEND;TZID=America/Port_of_Spain:20251022T200000
DTSTAMP:20260422T075637
CREATED:20250831T181821Z
LAST-MODIFIED:20250920T175559Z
UID:377748-1758909600-1761163200@ttfilmfestival.com
SUMMARY:The Panama Canal treaties - son of tiger & mule
DESCRIPTION:On December 31st\, 1999\, the United States officially returned the control of the canal to Panama\, honoring the Torrijos-Carter Treaties.
URL:https://ttfilmfestival.com/event/the-panama-canal-treaties-son-of-tiger-mule/
LOCATION:Gemstone: Amethyst\, One Woodbrook Place\, Port of Spain\, Trinidad and Tobago
CATEGORIES:Screening
END:VEVENT
BEGIN:VEVENT
DTSTART;TZID=America/Port_of_Spain:20250929T103000
DTEND;TZID=America/Port_of_Spain:20250929T123000
DTSTAMP:20260422T075637
CREATED:20250905T035817Z
LAST-MODIFIED:20250920T194406Z
UID:378079-1759141800-1759149000@ttfilmfestival.com
SUMMARY:FAMILY BONDS
DESCRIPTION:What we bury\, what we carry\, what waits across the sea. Home flickers between places and people\, between distance and return.
URL:https://ttfilmfestival.com/event/family-bonds-2/
LOCATION:4DX Cinema\, One Woodbrook Place\, Port of Spain\, Trinidad and Tobago
CATEGORIES:screening-multi-film
ATTACH;FMTTYPE=image/jpeg:https://ttfilmfestival.com/wp-content/uploads/2025/09/TOGRANDMOTHERSHOUSEWEGO_HARRIS_Still1-Dash-Harris.jpg
END:VEVENT
BEGIN:VEVENT
DTSTART;TZID=America/Port_of_Spain:20250929T110000
DTEND;TZID=America/Port_of_Spain:20250929T123000
DTSTAMP:20260422T075637
CREATED:20250903T191150Z
LAST-MODIFIED:20250903T191150Z
UID:377893-1759143600-1759149000@ttfilmfestival.com
SUMMARY:Everyday dignity: Philomena Essed
DESCRIPTION:Forty years ago\, scholar Philomena Essed sparked fierce public debate with her groundbreaking book\, Everyday Racism.
URL:https://ttfilmfestival.com/event/everyday-dignity-philomena-essed-2/
LOCATION:Gemstone: Amethyst\, One Woodbrook Place\, Port of Spain\, Trinidad and Tobago
CATEGORIES:Screening
END:VEVENT
BEGIN:VEVENT
DTSTART;TZID=America/Port_of_Spain:20250929T113000
DTEND;TZID=America/Port_of_Spain:20250929T133000
DTSTAMP:20260422T075637
CREATED:20250903T182046Z
LAST-MODIFIED:20250903T182046Z
UID:377871-1759145400-1759152600@ttfilmfestival.com
SUMMARY:Sugar island
DESCRIPTION:An unwanted pregnancy triggers the journey into adulthood for Makenya\, a Dominican-Haitian teenager who lives in the Batey\, a community surrounded by sugarcane fields.
URL:https://ttfilmfestival.com/event/sugar-island-2/
LOCATION:Gemstone: Azure\, One Woodbrook Place\, Port of Spain\, Trinidad and Tobago
CATEGORIES:Screening
END:VEVENT
BEGIN:VEVENT
DTSTART;TZID=America/Port_of_Spain:20250929T130000
DTEND;TZID=America/Port_of_Spain:20250929T150000
DTSTAMP:20260422T075637
CREATED:20250903T185904Z
LAST-MODIFIED:20250903T185904Z
UID:377887-1759150800-1759158000@ttfilmfestival.com
SUMMARY:Kanaval
DESCRIPTION:In the mid-1970s\, Rico\, a 9-year-old Haitian boy\, was brutally taken from his native land along with Erzulie\, his mother\, to a strange planet called Canada.
URL:https://ttfilmfestival.com/event/kanaval-2/
LOCATION:4DX Cinema\, One Woodbrook Place\, Port of Spain\, Trinidad and Tobago
CATEGORIES:Screening
END:VEVENT
BEGIN:VEVENT
DTSTART;TZID=America/Port_of_Spain:20250929T140000
DTEND;TZID=America/Port_of_Spain:20250929T153000
DTSTAMP:20260422T075637
CREATED:20250903T175355Z
LAST-MODIFIED:20250903T175355Z
UID:377860-1759154400-1759159800@ttfilmfestival.com
SUMMARY:The Disappearance of Miss Scott
DESCRIPTION:‘The Disappearance of Miss Scott’ is an intimate and urgent reclamation of the life and legacy of Hazel Scott – Trinidadian born\, virtuoso pianist\, Hollywood trailblazer\, civil rights crusader\, and the first Black person to host a nationally syndicated television show.
URL:https://ttfilmfestival.com/event/the-disappearance-of-miss-scott-2/
LOCATION:Gemstone: Amethyst\, One Woodbrook Place\, Port of Spain\, Trinidad and Tobago
CATEGORIES:Screening
END:VEVENT
BEGIN:VEVENT
DTSTART;TZID=America/Port_of_Spain:20250929T143000
DTEND;TZID=America/Port_of_Spain:20250929T160000
DTSTAMP:20260422T075637
CREATED:20250905T203319Z
LAST-MODIFIED:20250920T181527Z
UID:378150-1759156200-1759161600@ttfilmfestival.com
SUMMARY:FILM SCHOOL SHORTS 1
DESCRIPTION:Short films from student filmmakers around the Caribbean.
URL:https://ttfilmfestival.com/event/film-school-shorts-1/
LOCATION:Gemstone: Azure\, One Woodbrook Place\, Port of Spain\, Trinidad and Tobago
CATEGORIES:screening-multi-film
ATTACH;FMTTYPE=image/jpeg:https://ttfilmfestival.com/wp-content/uploads/2025/09/Evangeline_Desouzasamanek_still2-Peter-D-1-scaled.jpeg
END:VEVENT
BEGIN:VEVENT
DTSTART;TZID=America/Port_of_Spain:20250929T153000
DTEND;TZID=America/Port_of_Spain:20250929T173000
DTSTAMP:20260422T075637
CREATED:20250905T174140Z
LAST-MODIFIED:20250915T182743Z
UID:378129-1759159800-1759167000@ttfilmfestival.com
SUMMARY:GROW
DESCRIPTION:Rooted in local knowledge\, and sharpened against systems that mistake extraction for progress. This is land reclaimed as method\, as memory\, as future.
URL:https://ttfilmfestival.com/event/grow-2/
LOCATION:4DX Cinema\, One Woodbrook Place\, Port of Spain\, Trinidad and Tobago
CATEGORIES:screening-multi-film
ATTACH;FMTTYPE=image/jpeg:https://ttfilmfestival.com/wp-content/uploads/2025/09/RootsofResilience_CarooAfrifa_Still1-Yara-Ammar-scaled.jpg
END:VEVENT
BEGIN:VEVENT
DTSTART;TZID=America/Port_of_Spain:20250929T163000
DTEND;TZID=America/Port_of_Spain:20250929T183000
DTSTAMP:20260422T075637
CREATED:20250903T181021Z
LAST-MODIFIED:20250903T181021Z
UID:377867-1759163400-1759170600@ttfilmfestival.com
SUMMARY:Vieques: a living archive
DESCRIPTION:In a gripping and unpredictable 20-year quest\, director Juan Carlos Rodríguez showcases the poignant story of Vieques.
URL:https://ttfilmfestival.com/event/vieques-a-living-archive-2/
LOCATION:Gemstone: Amethyst\, One Woodbrook Place\, Port of Spain\, Trinidad and Tobago
CATEGORIES:Screening
END:VEVENT
BEGIN:VEVENT
DTSTART;TZID=America/Port_of_Spain:20250929T170000
DTEND;TZID=America/Port_of_Spain:20250929T183000
DTSTAMP:20260422T075637
CREATED:20250904T181650Z
LAST-MODIFIED:20250920T175406Z
UID:377982-1759165200-1759170600@ttfilmfestival.com
SUMMARY:ANIMA MUNDI
DESCRIPTION:Orishas ride the tide. Trees speak in tongues. Flesh and bone\, moving with the breath of ancestors and the pull of root systems older than written word. The body leans in. Our breath collective. The land holds us.
URL:https://ttfilmfestival.com/event/anima-mundi/
LOCATION:Gemstone: Azure\, One Woodbrook Place\, Port of Spain\, Trinidad and Tobago
CATEGORIES:screening-multi-film
ATTACH;FMTTYPE=image/jpeg:https://ttfilmfestival.com/wp-content/uploads/2025/09/33land.scape_notes_on_exile_shortfilm_stills_©BMacaulay--scaled.jpeg
END:VEVENT
BEGIN:VEVENT
DTSTART;TZID=America/Port_of_Spain:20250929T183000
DTEND;TZID=America/Port_of_Spain:20250929T200000
DTSTAMP:20260422T075637
CREATED:20250903T181445Z
LAST-MODIFIED:20250903T181445Z
UID:377869-1759170600-1759176000@ttfilmfestival.com
SUMMARY:Walter Rodney: what they don't want you to know
DESCRIPTION:Featuring a murder\, Cold War conspiracies\, Black Power\, the end of the Empire\, and how that connects to the policing and surveillance practices of today\, ‘Walter Rodney: what they don’t want you to know’ feeds a growing appetite for history from a different perspective\, as we grapple with the legacy of empire\, colonialism\, and its impact on the modern world.
URL:https://ttfilmfestival.com/event/walter-rodney-what-they-dont-want-you-to-know-2/
LOCATION:4DX Cinema\, One Woodbrook Place\, Port of Spain\, Trinidad and Tobago
CATEGORIES:Screening
END:VEVENT
BEGIN:VEVENT
DTSTART;TZID=America/Port_of_Spain:20250929T193000
DTEND;TZID=America/Port_of_Spain:20250929T210000
DTSTAMP:20260422T075637
CREATED:20250903T184919Z
LAST-MODIFIED:20250903T184919Z
UID:377883-1759174200-1759179600@ttfilmfestival.com
SUMMARY:L'Homme-Vertige: Tales of a city
DESCRIPTION:In her solitude in the city of Pointe-à-Pitre\, Guadeloupe\, filmmaker Malaury Eloi Paisley spends five years filming her relationship with people wandering in different worlds of the city.
URL:https://ttfilmfestival.com/event/lhomme-vertige-tales-of-a-city-2/
LOCATION:Gemstone: Amethyst\, One Woodbrook Place\, Port of Spain\, Trinidad and Tobago
CATEGORIES:Screening
END:VEVENT
BEGIN:VEVENT
DTSTART;TZID=America/Port_of_Spain:20250929T193000
DTEND;TZID=America/Port_of_Spain:20250929T210000
DTSTAMP:20260422T075637
CREATED:20250903T192829Z
LAST-MODIFIED:20250916T135505Z
UID:377899-1759174200-1759179600@ttfilmfestival.com
SUMMARY:Bionico’s Bachata
DESCRIPTION:A raw vision of love in a hostile Caribbean city\, ‘Bionico’s Bachata’ follows a hopeless romantic\, addicted to crack\, who must take control of his life if he wants to marry the woman he loves. \n 
URL:https://ttfilmfestival.com/event/bionicos-bachata-2/
LOCATION:Gemstone: Azure\, One Woodbrook Place\, Port of Spain\, Trinidad and Tobago
CATEGORIES:Screening
END:VEVENT
BEGIN:VEVENT
DTSTART;TZID=America/Port_of_Spain:20250929T210000
DTEND;TZID=America/Port_of_Spain:20250929T223000
DTSTAMP:20260422T075637
CREATED:20250903T190625Z
LAST-MODIFIED:20250903T190625Z
UID:377891-1759179600-1759185000@ttfilmfestival.com
SUMMARY:Isla familia
DESCRIPTION:‘Isla familia’ follows independent journalist Abraham Jiménez Enoa over three years\, from the arrival of the Covid pandemic in Cuba through his political exile in Spain.
URL:https://ttfilmfestival.com/event/isla-familia-2/
LOCATION:4DX Cinema\, One Woodbrook Place\, Port of Spain\, Trinidad and Tobago
CATEGORIES:Screening
END:VEVENT
END:VCALENDAR