BEGIN:VCALENDAR
VERSION:2.0
PRODID:-//Trinidad &amp; Tobago Film Festival - ECPv6.15.20//NONSGML v1.0//EN
CALSCALE:GREGORIAN
METHOD:PUBLISH
X-ORIGINAL-URL:https://ttfilmfestival.com
X-WR-CALDESC:Events for Trinidad &amp; Tobago Film Festival
REFRESH-INTERVAL;VALUE=DURATION:PT1H
X-Robots-Tag:noindex
X-PUBLISHED-TTL:PT1H
BEGIN:VTIMEZONE
TZID:America/Port_of_Spain
BEGIN:STANDARD
TZOFFSETFROM:-0400
TZOFFSETTO:-0400
TZNAME:AST
DTSTART:20240101T000000
END:STANDARD
END:VTIMEZONE
BEGIN:VEVENT
DTSTART;TZID=America/Port_of_Spain:20250925T163000
DTEND;TZID=America/Port_of_Spain:20250925T183000
DTSTAMP:20260424T123559
CREATED:20250831T172359Z
LAST-MODIFIED:20250831T172359Z
UID:377731-1758817800-1758825000@ttfilmfestival.com
SUMMARY:Possible landscapes
DESCRIPTION:‘Possible landscapes’ is a poignant exploration of intergenerational experiences of Caribbean environments\, filmed across two seasons in Trinidad and Tobago. Across sugarcane fields\, steep hillsides\, on fishing boats and through dying coral reefs\, the film presents intimate portraits of people in their daily lives and examines the impacts of colonial legacies\, post-independence aspirations\, and the evolving forces of extractivism.  A collaboration between filmmaker Kannan Arunasalam and professors Tao DuFour (Architecture) and Natalie Melas (Comparative Literature)\, it emerges from the research project Possible Landscapes: Documenting Environmental Experience in Trinidad and Tobago. Combining documentary and academic enquiry\, it foregrounds lived experience of landscape and environment.
URL:https://ttfilmfestival.com/event/possible-landscapes/
LOCATION:Gemstone: Azure\, One Woodbrook Place\, Port of Spain\, Trinidad and Tobago
CATEGORIES:Screening
ATTACH;FMTTYPE=image/png:https://ttfilmfestival.com/wp-content/uploads/2025/08/POSSIBLELANDSCAPES_MELAS_Still3-Natalie-Melas.png
END:VEVENT
END:VCALENDAR