BEGIN:VCALENDAR
VERSION:2.0
PRODID:-//Trinidad &amp; Tobago Film Festival - ECPv6.15.20//NONSGML v1.0//EN
CALSCALE:GREGORIAN
METHOD:PUBLISH
X-WR-CALNAME:Trinidad &amp; Tobago Film Festival
X-ORIGINAL-URL:https://ttfilmfestival.com
X-WR-CALDESC:Events for Trinidad &amp; Tobago Film Festival
REFRESH-INTERVAL;VALUE=DURATION:PT1H
X-Robots-Tag:noindex
X-PUBLISHED-TTL:PT1H
BEGIN:VTIMEZONE
TZID:America/Port_of_Spain
BEGIN:STANDARD
TZOFFSETFROM:-0400
TZOFFSETTO:-0400
TZNAME:AST
DTSTART:20240101T000000
END:STANDARD
END:VTIMEZONE
BEGIN:VEVENT
DTSTART;TZID=America/Port_of_Spain:20250930T103000
DTEND;TZID=America/Port_of_Spain:20250930T120000
DTSTAMP:20260424T045348
CREATED:20250912T014000Z
LAST-MODIFIED:20250912T014000Z
UID:378481-1759228200-1759233600@ttfilmfestival.com
SUMMARY:Carnival: They Can't steal our Joy
DESCRIPTION:In the 18th century\, enslaved Africans on an Island in the Caribbean revolted to fight for their freedom by using their forbidden cultural rituals and folklores\, that creative resistance movement is the current day \, “Caribbean Carnival”.
URL:https://ttfilmfestival.com/event/carnival-they-cant-steal-our-joy/
LOCATION:4DX Cinema\, One Woodbrook Place\, Port of Spain\, Trinidad and Tobago
CATEGORIES:Screening
END:VEVENT
BEGIN:VEVENT
DTSTART;TZID=America/Port_of_Spain:20250930T103000
DTEND;TZID=America/Port_of_Spain:20250930T130000
DTSTAMP:20260424T045348
CREATED:20250903T180503Z
LAST-MODIFIED:20250916T145616Z
UID:377865-1759228200-1759237200@ttfilmfestival.com
SUMMARY:The price of love: Cheddi Jagan
DESCRIPTION:Born on a sugar plantation in rural Guyana to indentured Indian laborers\, Cheddi Jagan rose from humble beginnings to become the Western Hemisphere’s first democratically elected Marxist leader.
URL:https://ttfilmfestival.com/event/the-price-of-love-cheddi-jagan-2/
LOCATION:Gemstone: Azure\, One Woodbrook Place\, Port of Spain\, Trinidad and Tobago
CATEGORIES:Screening
END:VEVENT
END:VCALENDAR