BEGIN:VCALENDAR
VERSION:2.0
PRODID:-//Trinidad &amp; Tobago Film Festival - ECPv6.15.20//NONSGML v1.0//EN
CALSCALE:GREGORIAN
METHOD:PUBLISH
X-WR-CALNAME:Trinidad &amp; Tobago Film Festival
X-ORIGINAL-URL:https://ttfilmfestival.com
X-WR-CALDESC:Events for Trinidad &amp; Tobago Film Festival
REFRESH-INTERVAL;VALUE=DURATION:PT1H
X-Robots-Tag:noindex
X-PUBLISHED-TTL:PT1H
BEGIN:VTIMEZONE
TZID:America/Port_of_Spain
BEGIN:STANDARD
TZOFFSETFROM:-0400
TZOFFSETTO:-0400
TZNAME:AST
DTSTART:20240101T000000
END:STANDARD
END:VTIMEZONE
BEGIN:VEVENT
DTSTART;TZID=America/Port_of_Spain:20250925T163000
DTEND;TZID=America/Port_of_Spain:20250925T183000
DTSTAMP:20260424T124622
CREATED:20250831T173151Z
LAST-MODIFIED:20250831T173151Z
UID:377736-1758817800-1758825000@ttfilmfestival.com
SUMMARY:A mother apart
DESCRIPTION:How do you raise a child when your own mother abandoned you? In a remarkable story of healing and forgiveness\, Jamaican-American poet and LGBTQ+ activist Staceyann Chin\, renowned for performances in Def Poetry Slam and hit solo shows like MotherStruck!\, radically re-imagines the essential art of mothering. In seeking her elusive mother – a trail that leads to Brooklyn\, Montreal\, Cologne and\, finally\, Jamaica – Staceyann and her daughter forge a new sense of home.
URL:https://ttfilmfestival.com/event/a-mother-apart/
LOCATION:4DX Cinema\, One Woodbrook Place\, Port of Spain\, Trinidad and Tobago
CATEGORIES:Screening
ATTACH;FMTTYPE=image/jpeg:https://ttfilmfestival.com/wp-content/uploads/2025/08/A_MOTHER_APART_STILL.jpg
END:VEVENT
END:VCALENDAR