BEGIN:VCALENDAR
VERSION:2.0
PRODID:-//Trinidad &amp; Tobago Film Festival - ECPv6.15.20//NONSGML v1.0//EN
CALSCALE:GREGORIAN
METHOD:PUBLISH
X-WR-CALNAME:Trinidad &amp; Tobago Film Festival
X-ORIGINAL-URL:https://ttfilmfestival.com
X-WR-CALDESC:Events for Trinidad &amp; Tobago Film Festival
REFRESH-INTERVAL;VALUE=DURATION:PT1H
X-Robots-Tag:noindex
X-PUBLISHED-TTL:PT1H
BEGIN:VTIMEZONE
TZID:America/Port_of_Spain
BEGIN:STANDARD
TZOFFSETFROM:-0400
TZOFFSETTO:-0400
TZNAME:AST
DTSTART:20240101T000000
END:STANDARD
END:VTIMEZONE
BEGIN:VEVENT
DTSTART;TZID=America/Port_of_Spain:20250925T133000
DTEND;TZID=America/Port_of_Spain:20250925T150000
DTSTAMP:20260424T043743
CREATED:20250912T014213Z
LAST-MODIFIED:20250912T014213Z
UID:378484-1758807000-1758812400@ttfilmfestival.com
SUMMARY:Carnival: They Can't steal our Joy
DESCRIPTION:In the 18th century\, enslaved Africans on an Island in the Caribbean revolted to fight for their freedom by using their forbidden cultural rituals and folklores\, that creative resistance movement is the current day \, “Caribbean Carnival”.
URL:https://ttfilmfestival.com/event/carnival-they-cant-steal-our-joy-2/
LOCATION:IMAX Cinema\, One Woodbrook Place\, Port of Spain\, Trinidad and Tobago
CATEGORIES:Screening
END:VEVENT
BEGIN:VEVENT
DTSTART;TZID=America/Port_of_Spain:20250926T103000
DTEND;TZID=America/Port_of_Spain:20250926T120000
DTSTAMP:20260424T043743
CREATED:20250904T163153Z
LAST-MODIFIED:20250915T174045Z
UID:377974-1758882600-1758888000@ttfilmfestival.com
SUMMARY:FREE UP
DESCRIPTION:Play isn’t an escape – it’s how you fight back\, stitch joy into the cracks\, and turn survival into style. Skating\, bubbling\, strutting\, remembering\, each act a form of improvisation\, a claim to space\, a refusal to vanish. From carnival queens to shuttered community centers\, this is play as pulse\, protest\, and possibility.
URL:https://ttfilmfestival.com/event/free-up-2/
LOCATION:Gemstone: Azure\, One Woodbrook Place\, Port of Spain\, Trinidad and Tobago
CATEGORIES:screening-multi-film
ATTACH;FMTTYPE=image/png:https://ttfilmfestival.com/wp-content/uploads/2025/09/DANCINGONROAD_GEE_STILL2-Cassius-Banton-scaled.png
END:VEVENT
BEGIN:VEVENT
DTSTART;TZID=America/Port_of_Spain:20250926T180000
DTEND;TZID=America/Port_of_Spain:20250926T200000
DTSTAMP:20260424T043743
CREATED:20250908T224645Z
LAST-MODIFIED:20250926T163654Z
UID:378325-1758909600-1758916800@ttfilmfestival.com
SUMMARY:The Fisherman
DESCRIPTION:In this Venice Film Festival-winning feast of magical realist comedy\, aging Ghanaian\, Atta Oko\, sets his sights on finally having his own boat and becoming the envy of his village.
URL:https://ttfilmfestival.com/event/the-fisherman-2/
LOCATION:IMAX Cinema\, One Woodbrook Place\, Port of Spain\, Trinidad and Tobago
CATEGORIES:Screening
END:VEVENT
BEGIN:VEVENT
DTSTART;TZID=America/Port_of_Spain:20250927T100000
DTEND;TZID=America/Port_of_Spain:20250927T120000
DTSTAMP:20260424T043743
CREATED:20250903T220409Z
LAST-MODIFIED:20250915T182508Z
UID:377912-1758967200-1758974400@ttfilmfestival.com
SUMMARY:STORYTIME: Family friendly
DESCRIPTION:A star child\, a forest spirit\, a goat on a quest\, nothing here stays ordinary for long. These tales open portals through difference\, and fear\, where magic isn’t an escape\, but a way to face the world. Wonder is serious business.
URL:https://ttfilmfestival.com/event/storytime-family-friendly/
LOCATION:IMAX Cinema\, One Woodbrook Place\, Port of Spain\, Trinidad and Tobago
CATEGORIES:screening-multi-film
ATTACH;FMTTYPE=image/jpeg:https://ttfilmfestival.com/wp-content/uploads/2025/09/Sandwiched_SHAREEF_FilmPoster-Mahrinna.jpg
END:VEVENT
BEGIN:VEVENT
DTSTART;TZID=America/Port_of_Spain:20250928T110000
DTEND;TZID=America/Port_of_Spain:20250928T123000
DTSTAMP:20260424T043743
CREATED:20250903T183738Z
LAST-MODIFIED:20250903T183738Z
UID:377877-1759057200-1759062600@ttfilmfestival.com
SUMMARY:Olivia and the clouds
DESCRIPTION:‘Olivia and the clouds’ is a surreal exploration of love’s complexities.
URL:https://ttfilmfestival.com/event/olivia-and-the-clouds/
LOCATION:IMAX Cinema\, One Woodbrook Place\, Port of Spain\, Trinidad and Tobago
CATEGORIES:Screening
END:VEVENT
BEGIN:VEVENT
DTSTART;TZID=America/Port_of_Spain:20250928T133000
DTEND;TZID=America/Port_of_Spain:20250928T153000
DTSTAMP:20260424T043743
CREATED:20250908T224415Z
LAST-MODIFIED:20250916T145156Z
UID:378322-1759066200-1759073400@ttfilmfestival.com
SUMMARY:The Fisherman
DESCRIPTION:In this Venice Film Festival-winning feast of magical realist comedy\, aging Ghanaian\, Atta Oko\, sets his sights on finally having his own boat and becoming the envy of his village.
URL:https://ttfilmfestival.com/event/the-fisherman/
LOCATION:IMAX Cinema\, One Woodbrook Place\, Port of Spain\, Trinidad and Tobago
CATEGORIES:Screening
END:VEVENT
BEGIN:VEVENT
DTSTART;TZID=America/Port_of_Spain:20250928T190000
DTEND;TZID=America/Port_of_Spain:20250928T203000
DTSTAMP:20260424T043743
CREATED:20250903T193259Z
LAST-MODIFIED:20250903T193259Z
UID:377901-1759086000-1759091400@ttfilmfestival.com
SUMMARY:A mother apart
DESCRIPTION:How do you raise a child when your own mother abandoned you?
URL:https://ttfilmfestival.com/event/a-mother-apart-2/
LOCATION:IMAX Cinema\, One Woodbrook Place\, Port of Spain\, Trinidad and Tobago
CATEGORIES:Screening
END:VEVENT
BEGIN:VEVENT
DTSTART;TZID=America/Port_of_Spain:20250929T103000
DTEND;TZID=America/Port_of_Spain:20250929T123000
DTSTAMP:20260424T043743
CREATED:20250905T035817Z
LAST-MODIFIED:20250920T194406Z
UID:378079-1759141800-1759149000@ttfilmfestival.com
SUMMARY:FAMILY BONDS
DESCRIPTION:What we bury\, what we carry\, what waits across the sea. Home flickers between places and people\, between distance and return.
URL:https://ttfilmfestival.com/event/family-bonds-2/
LOCATION:4DX Cinema\, One Woodbrook Place\, Port of Spain\, Trinidad and Tobago
CATEGORIES:screening-multi-film
ATTACH;FMTTYPE=image/jpeg:https://ttfilmfestival.com/wp-content/uploads/2025/09/TOGRANDMOTHERSHOUSEWEGO_HARRIS_Still1-Dash-Harris.jpg
END:VEVENT
BEGIN:VEVENT
DTSTART;TZID=America/Port_of_Spain:20250930T190000
DTEND;TZID=America/Port_of_Spain:20250930T213000
DTSTAMP:20260424T043743
CREATED:20250903T185453Z
LAST-MODIFIED:20250922T120428Z
UID:377885-1759258800-1759267800@ttfilmfestival.com
SUMMARY:Kidnapping Inc.
DESCRIPTION:Set in Port-au-Prince\, Haiti\, ‘Kidnapping Inc’ is a comedy thriller which follows the trials and tribulations of two inept kidnappers and would-be gangsters\, friends Doc and Zoe. \nNOTE: Kidnapping Inc is the Closing Night Film. \n🎟 Tickets for this event must be purchased at Island eTickets 
URL:https://ttfilmfestival.com/event/kidnapping-inc/
LOCATION:IMAX Cinema\, One Woodbrook Place\, Port of Spain\, Trinidad and Tobago
CATEGORIES:Screening
END:VEVENT
END:VCALENDAR