BEGIN:VCALENDAR
VERSION:2.0
PRODID:-//Trinidad &amp; Tobago Film Festival - ECPv6.15.20//NONSGML v1.0//EN
CALSCALE:GREGORIAN
METHOD:PUBLISH
X-ORIGINAL-URL:https://ttfilmfestival.com
X-WR-CALDESC:Events for Trinidad &amp; Tobago Film Festival
REFRESH-INTERVAL;VALUE=DURATION:PT1H
X-Robots-Tag:noindex
X-PUBLISHED-TTL:PT1H
BEGIN:VTIMEZONE
TZID:America/Port_of_Spain
BEGIN:STANDARD
TZOFFSETFROM:-0400
TZOFFSETTO:-0400
TZNAME:AST
DTSTART:20240101T000000
END:STANDARD
END:VTIMEZONE
BEGIN:VEVENT
DTSTART;TZID=America/Port_of_Spain:20250926T103000
DTEND;TZID=America/Port_of_Spain:20251022T120000
DTSTAMP:20260425T121515
CREATED:20250831T182503Z
LAST-MODIFIED:20250831T182525Z
UID:377752-1758882600-1761134400@ttfilmfestival.com
SUMMARY:Monikondee
DESCRIPTION:For centuries\, Suriname’s Maroons have preserved ancestral traditions and resisted capitalist encroachment. But climate change and gold mining now threaten their way of life.
URL:https://ttfilmfestival.com/event/monikondee/
LOCATION:4DX Cinema\, One Woodbrook Place\, Port of Spain\, Trinidad and Tobago
CATEGORIES:Screening
END:VEVENT
BEGIN:VEVENT
DTSTART;TZID=America/Port_of_Spain:20250926T113000
DTEND;TZID=America/Port_of_Spain:20250926T140000
DTSTAMP:20260425T121515
CREATED:20250831T181505Z
LAST-MODIFIED:20250831T181542Z
UID:377746-1758886200-1758895200@ttfilmfestival.com
SUMMARY:The price of love - Cheddi Jagan
DESCRIPTION:Born on a sugar plantation in rural Guyana to indentured Indian laborers\, Cheddi Jagan rose from humble beginnings to become the Western Hemisphere’s first democratically elected Marxist leader.
URL:https://ttfilmfestival.com/event/the-price-of-love-cheddi-jagan/
LOCATION:Gemstone: Amethyst\, One Woodbrook Place\, Port of Spain\, Trinidad and Tobago
CATEGORIES:Screening
END:VEVENT
BEGIN:VEVENT
DTSTART;TZID=America/Port_of_Spain:20250926T130000
DTEND;TZID=America/Port_of_Spain:20250926T143000
DTSTAMP:20260425T121515
CREATED:20250831T221033Z
LAST-MODIFIED:20250831T221033Z
UID:377755-1758891600-1758897000@ttfilmfestival.com
SUMMARY:Olivia + the clouds
DESCRIPTION:‘Olivia and the clouds’ is a surreal exploration of love’s complexities.
URL:https://ttfilmfestival.com/event/olivia-the-clouds/
LOCATION:4DX Cinema\, One Woodbrook Place\, Port of Spain\, Trinidad and Tobago
CATEGORIES:Screening
END:VEVENT
BEGIN:VEVENT
DTSTART;TZID=America/Port_of_Spain:20250926T143000
DTEND;TZID=America/Port_of_Spain:20250926T163000
DTSTAMP:20260425T121515
CREATED:20250831T175922Z
LAST-MODIFIED:20250831T175922Z
UID:377738-1758897000-1758904200@ttfilmfestival.com
SUMMARY:Kanaval
DESCRIPTION:In the mid-1970s\, Rico\, a 9-year-old Haitian boy\, was brutally taken from his native land along with Erzulie\, his mother\, to a strange planet called Canada. Since their arrival\, a distance seems to have grown between mother and son. To regain the love of his mother\, Rico will have to understand this New World populated by individuals with strange habits and customs. Fortunately for him\, he can count on Kana\, his imaginary friend who comes straight out of Haitian mythology.
URL:https://ttfilmfestival.com/event/kanaval/
LOCATION:IMAX Cinema\, One Woodbrook Place\, Port of Spain\, Trinidad and Tobago
CATEGORIES:Screening
ATTACH;FMTTYPE=image/png:https://ttfilmfestival.com/wp-content/uploads/2025/08/Kanaval_Pardo_Still1-©-Aziz-Zoromba-neigeme.png
END:VEVENT
BEGIN:VEVENT
DTSTART;TZID=America/Port_of_Spain:20250926T153000
DTEND;TZID=America/Port_of_Spain:20250926T173000
DTSTAMP:20260425T121515
CREATED:20250831T221428Z
LAST-MODIFIED:20250831T221428Z
UID:377757-1758900600-1758907800@ttfilmfestival.com
SUMMARY:The enigma of Harold Sonny Ladoo
DESCRIPTION:Harold Sonny Ladoo was the first Trinidadian and second Caribbean novelist published in Canada\, yet remains little known beyond a circle of devoted readers.
URL:https://ttfilmfestival.com/event/the-enigma-of-harold-sonny-ladoo/
LOCATION:4DX Cinema\, One Woodbrook Place\, Port of Spain\, Trinidad and Tobago
CATEGORIES:Screening
END:VEVENT
BEGIN:VEVENT
DTSTART;TZID=America/Port_of_Spain:20250926T160000
DTEND;TZID=America/Port_of_Spain:20250926T180000
DTSTAMP:20260425T121515
CREATED:20250831T180434Z
LAST-MODIFIED:20250831T180434Z
UID:377740-1758902400-1758909600@ttfilmfestival.com
SUMMARY:Vieques: a living archive
DESCRIPTION:In a gripping and unpredictable 20-year quest\, director Juan Carlos Rodríguez showcases the poignant story of Vieques. Through intimate recollections\, community voices\, and archival footage\, the film exposes the profound hardships endured by Viequenses before and after the US Navy’s departure in 2003\, unveiling Vieques’ dire health situation throughout the years.
URL:https://ttfilmfestival.com/event/vieques-a-living-archive/
LOCATION:Gemstone: Azure\, One Woodbrook Place\, Port of Spain\, Trinidad and Tobago
CATEGORIES:Screening
ATTACH;FMTTYPE=image/jpeg:https://ttfilmfestival.com/wp-content/uploads/2025/08/VIEQUES_A_LVING_ARCHIVE_STILL1-Juan-Rodriguez-scaled.jpg
END:VEVENT
BEGIN:VEVENT
DTSTART;TZID=America/Port_of_Spain:20250926T180000
DTEND;TZID=America/Port_of_Spain:20250926T200000
DTSTAMP:20260425T121515
CREATED:20250908T224645Z
LAST-MODIFIED:20250926T163654Z
UID:378325-1758909600-1758916800@ttfilmfestival.com
SUMMARY:The Fisherman
DESCRIPTION:In this Venice Film Festival-winning feast of magical realist comedy\, aging Ghanaian\, Atta Oko\, sets his sights on finally having his own boat and becoming the envy of his village.
URL:https://ttfilmfestival.com/event/the-fisherman-2/
LOCATION:IMAX Cinema\, One Woodbrook Place\, Port of Spain\, Trinidad and Tobago
CATEGORIES:Screening
END:VEVENT
BEGIN:VEVENT
DTSTART;TZID=America/Port_of_Spain:20250926T180000
DTEND;TZID=America/Port_of_Spain:20251022T200000
DTSTAMP:20260425T121515
CREATED:20250831T181821Z
LAST-MODIFIED:20250920T175559Z
UID:377748-1758909600-1761163200@ttfilmfestival.com
SUMMARY:The Panama Canal treaties - son of tiger & mule
DESCRIPTION:On December 31st\, 1999\, the United States officially returned the control of the canal to Panama\, honoring the Torrijos-Carter Treaties.
URL:https://ttfilmfestival.com/event/the-panama-canal-treaties-son-of-tiger-mule/
LOCATION:Gemstone: Amethyst\, One Woodbrook Place\, Port of Spain\, Trinidad and Tobago
CATEGORIES:Screening
END:VEVENT
BEGIN:VEVENT
DTSTART;TZID=America/Port_of_Spain:20250926T183000
DTEND;TZID=America/Port_of_Spain:20250926T200000
DTSTAMP:20260425T121515
CREATED:20250831T180727Z
LAST-MODIFIED:20250926T163610Z
UID:377742-1758911400-1758916800@ttfilmfestival.com
SUMMARY:Colosal
DESCRIPTION:All families keep secrets\, says director Nayibe Tavares-Abel. Hers are intimately intertwined with the democratic history of the Dominican Republic. Tavares-Abel is an election observer for the 2020 elections. In May 1990\, her grandfather Froilán Tavares\, a respected lawyer and president of the Central Electoral Board\, was blamed for the electoral fraud that would prolong the authoritarian regime of Joaquín Balaguer. ‘Colossal’ is a portrait of a transgenerational family caught between fear and trauma\, and of new generations in search of new paths.
URL:https://ttfilmfestival.com/event/colosal/
LOCATION:Gemstone: Azure\, One Woodbrook Place\, Port of Spain\, Trinidad and Tobago
CATEGORIES:Screening
ATTACH;FMTTYPE=image/jpeg:https://ttfilmfestival.com/wp-content/uploads/2025/08/Colosal_Headshot_Nayibe-Tavares-Abel2024.-copyright-Ana-De-Benito-Cinema-Costanera-scaled.jpg
END:VEVENT
BEGIN:VEVENT
DTSTART;TZID=America/Port_of_Spain:20250926T183000
DTEND;TZID=America/Port_of_Spain:20250926T203000
DTSTAMP:20260425T121515
CREATED:20250831T222004Z
LAST-MODIFIED:20250831T222004Z
UID:377759-1758911400-1758918600@ttfilmfestival.com
SUMMARY:Sugar island
DESCRIPTION:An unwanted pregnancy triggers the journey into adulthood for Makenya\, a Dominican-Haitian teenager who lives in the Batey…
URL:https://ttfilmfestival.com/event/sugar-island/
LOCATION:4DX Cinema\, One Woodbrook Place\, Port of Spain\, Trinidad and Tobago
CATEGORIES:Screening
END:VEVENT
BEGIN:VEVENT
DTSTART;TZID=America/Port_of_Spain:20250926T210000
DTEND;TZID=America/Port_of_Spain:20250926T223000
DTSTAMP:20260425T121515
CREATED:20250831T182210Z
LAST-MODIFIED:20250831T182210Z
UID:377750-1758920400-1758925800@ttfilmfestival.com
SUMMARY:Walter Rodney: What they don't want you to know
DESCRIPTION:Featuring a murder\, Cold War conspiracies\, Black Power\, the end of the Empire\, and how that connects to the policing and surveillance practices of today\, ‘Walter Rodney: what they don’t want you to know’ feeds a growing appetite for history from a different perspective…
URL:https://ttfilmfestival.com/event/walter-rodney-what-they-dont-want-you-to-know/
LOCATION:Gemstone: Amethyst\, One Woodbrook Place\, Port of Spain\, Trinidad and Tobago
CATEGORIES:Screening
END:VEVENT
BEGIN:VEVENT
DTSTART;TZID=America/Port_of_Spain:20250926T210000
DTEND;TZID=America/Port_of_Spain:20250926T230000
DTSTAMP:20260425T121515
CREATED:20250831T181122Z
LAST-MODIFIED:20250908T234728Z
UID:377744-1758920400-1758927600@ttfilmfestival.com
SUMMARY:Twice into oblivion
DESCRIPTION:Haiti and the Dominican Republic share the island of Quisqueya and a hidden genocide. In 1937\, Dominican dictator Rafael Leonidas Trujillo ordered the massacre of over 20\,000 Haitian immigrants living in the Dominican Republic.
URL:https://ttfilmfestival.com/event/twice-into-oblivion-2/
LOCATION:Gemstone: Azure\, One Woodbrook Place\, Port of Spain\, Trinidad and Tobago
CATEGORIES:Screening
END:VEVENT
BEGIN:VEVENT
DTSTART;TZID=America/Port_of_Spain:20250927T130000
DTEND;TZID=America/Port_of_Spain:20250927T143000
DTSTAMP:20260425T121515
CREATED:20250908T235431Z
LAST-MODIFIED:20250916T151037Z
UID:378344-1758978000-1758983400@ttfilmfestival.com
SUMMARY:Tongo saa
DESCRIPTION:Kinshasa\, the capital city of 17 million people\, is plunged into darkness and insecurity as its inhabitants struggle to access the light.
URL:https://ttfilmfestival.com/event/tongo-saa/
LOCATION:IMAX Cinema\, One Woodbrook Place\, Port of Spain\, Trinidad and Tobago
CATEGORIES:Screening
END:VEVENT
BEGIN:VEVENT
DTSTART;TZID=America/Port_of_Spain:20250927T130000
DTEND;TZID=America/Port_of_Spain:20250927T150000
DTSTAMP:20260425T121515
CREATED:20250903T184148Z
LAST-MODIFIED:20250903T184148Z
UID:377879-1758978000-1758985200@ttfilmfestival.com
SUMMARY:Monikondee
DESCRIPTION:For centuries\, Suriname’s Maroons have preserved ancestral traditions and resisted capitalist encroachment.
URL:https://ttfilmfestival.com/event/monikondee-2/
LOCATION:Gemstone: Azure\, One Woodbrook Place\, Port of Spain\, Trinidad and Tobago
CATEGORIES:Screening
END:VEVENT
BEGIN:VEVENT
DTSTART;TZID=America/Port_of_Spain:20250927T160000
DTEND;TZID=America/Port_of_Spain:20250927T173000
DTSTAMP:20260425T121515
CREATED:20250903T190357Z
LAST-MODIFIED:20250903T190357Z
UID:377889-1758988800-1758994200@ttfilmfestival.com
SUMMARY:Isla familia
DESCRIPTION:‘Isla familia’ follows independent journalist Abraham Jiménez Enoa over three years\, from the arrival of the Covid pandemic in Cuba through his political exile in Spain.
URL:https://ttfilmfestival.com/event/isla-familia/
LOCATION:Gemstone: Azure\, One Woodbrook Place\, Port of Spain\, Trinidad and Tobago
CATEGORIES:Screening
END:VEVENT
BEGIN:VEVENT
DTSTART;TZID=America/Port_of_Spain:20250927T183000
DTEND;TZID=America/Port_of_Spain:20250927T200000
DTSTAMP:20260425T121515
CREATED:20250903T184612Z
LAST-MODIFIED:20250903T184612Z
UID:377881-1758997800-1759003200@ttfilmfestival.com
SUMMARY:L'Homme-Vertige: Tales of a city
DESCRIPTION:In her solitude in the city of Pointe-à-Pitre\, Guadeloupe\, filmmaker Malaury Eloi Paisley spends five years filming her relationship with people wandering in different worlds of the city.
URL:https://ttfilmfestival.com/event/lhomme-vertige-tales-of-a-city/
LOCATION:Gemstone: Azure\, One Woodbrook Place\, Port of Spain\, Trinidad and Tobago
CATEGORIES:Screening
END:VEVENT
BEGIN:VEVENT
DTSTART;TZID=America/Port_of_Spain:20250927T183000
DTEND;TZID=America/Port_of_Spain:20250927T203000
DTSTAMP:20260425T121515
CREATED:20250903T180002Z
LAST-MODIFIED:20250903T180032Z
UID:377862-1758997800-1759005000@ttfilmfestival.com
SUMMARY:The enigma of Harold Sonny Ladoo
DESCRIPTION:Harold Sonny Ladoo was the first Trinidadian and second Caribbean novelist published in Canada\, yet remains little known beyond a circle of devoted readers.
URL:https://ttfilmfestival.com/event/the-enigma-of-harold-sonny-ladoo-2/
LOCATION:IMAX Cinema\, One Woodbrook Place\, Port of Spain\, Trinidad and Tobago
CATEGORIES:Screening
END:VEVENT
BEGIN:VEVENT
DTSTART;TZID=America/Port_of_Spain:20250927T203000
DTEND;TZID=America/Port_of_Spain:20250927T223000
DTSTAMP:20260425T121515
CREATED:20250903T202100Z
LAST-MODIFIED:20250903T202100Z
UID:377909-1759005000-1759012200@ttfilmfestival.com
SUMMARY:All we imagine as light/ special presentation
DESCRIPTION:Winner of the Grand Prix at Cannes 2024\, ‘All we imagine as light’ is a luminous debut fiction feature by Payal Kapadia that captures the quiet resilience of women navigating life in contemporary Mumbai.
URL:https://ttfilmfestival.com/event/all-we-imagine-as-light-special-presentation/
LOCATION:4DX Cinema\, One Woodbrook Place\, Port of Spain\, Trinidad and Tobago
CATEGORIES:Screening
END:VEVENT
BEGIN:VEVENT
DTSTART;TZID=America/Port_of_Spain:20250927T210000
DTEND;TZID=America/Port_of_Spain:20250927T223000
DTSTAMP:20260425T121515
CREATED:20250903T192602Z
LAST-MODIFIED:20250903T192602Z
UID:377897-1759006800-1759012200@ttfilmfestival.com
SUMMARY:Bionico’s Bachata
DESCRIPTION:A raw vision of love in a hostile Caribbean city\, ‘Bionico’s Bachata’ follows a hopeless romantic\, addicted to crack\, who must take control of his life if he wants to marry the woman he loves. \n 
URL:https://ttfilmfestival.com/event/bionicos-bachata/
LOCATION:Gemstone: Azure\, One Woodbrook Place\, Port of Spain\, Trinidad and Tobago
CATEGORIES:Screening
END:VEVENT
BEGIN:VEVENT
DTSTART;TZID=America/Port_of_Spain:20250928T103000
DTEND;TZID=America/Port_of_Spain:20250928T123000
DTSTAMP:20260425T121515
CREATED:20250903T183143Z
LAST-MODIFIED:20250903T183143Z
UID:377875-1759055400-1759062600@ttfilmfestival.com
SUMMARY:The Panama Canal Treaties – Son of Tiger & Mule
DESCRIPTION:On December 31st\, 1999\, the United States officially returned the control of the canal to Panama\, honoring the Torrijos-Carter Treaties. Behind the historic signing lay a complex web of international diplomacy and intrigue\, steered by General Omar Torrijos.
URL:https://ttfilmfestival.com/event/the-panama-canal-treaties-son-of-tiger-mule-2/
LOCATION:Gemstone: Azure\, One Woodbrook Place\, Port of Spain\, Trinidad and Tobago
CATEGORIES:Screening
END:VEVENT
BEGIN:VEVENT
DTSTART;TZID=America/Port_of_Spain:20250928T110000
DTEND;TZID=America/Port_of_Spain:20250928T123000
DTSTAMP:20260425T121515
CREATED:20250903T183738Z
LAST-MODIFIED:20250903T183738Z
UID:377877-1759057200-1759062600@ttfilmfestival.com
SUMMARY:Olivia and the clouds
DESCRIPTION:‘Olivia and the clouds’ is a surreal exploration of love’s complexities.
URL:https://ttfilmfestival.com/event/olivia-and-the-clouds/
LOCATION:IMAX Cinema\, One Woodbrook Place\, Port of Spain\, Trinidad and Tobago
CATEGORIES:Screening
END:VEVENT
BEGIN:VEVENT
DTSTART;TZID=America/Port_of_Spain:20250928T123000
DTEND;TZID=America/Port_of_Spain:20250928T143000
DTSTAMP:20260425T121515
CREATED:20250903T182718Z
LAST-MODIFIED:20250903T182718Z
UID:377873-1759062600-1759069800@ttfilmfestival.com
SUMMARY:Possible landscapes
DESCRIPTION:‘Possible landscapes’ is a poignant exploration of intergenerational experiences of Caribbean environments\, filmed across two seasons in Trinidad and Tobago.
URL:https://ttfilmfestival.com/event/possible-landscapes-2/
LOCATION:4DX Cinema\, One Woodbrook Place\, Port of Spain\, Trinidad and Tobago
CATEGORIES:Screening
END:VEVENT
BEGIN:VEVENT
DTSTART;TZID=America/Port_of_Spain:20250928T130000
DTEND;TZID=America/Port_of_Spain:20250928T143000
DTSTAMP:20260425T121515
CREATED:20250903T192048Z
LAST-MODIFIED:20250903T192048Z
UID:377895-1759064400-1759069800@ttfilmfestival.com
SUMMARY:Colosal
DESCRIPTION:All families keep secrets\, says director Nayibe Tavares-Abel. Hers are intimately intertwined with the democratic history of the Dominican Republic.
URL:https://ttfilmfestival.com/event/colosal-2/
LOCATION:Gemstone: Azure\, One Woodbrook Place\, Port of Spain\, Trinidad and Tobago
CATEGORIES:Screening
END:VEVENT
BEGIN:VEVENT
DTSTART;TZID=America/Port_of_Spain:20250928T133000
DTEND;TZID=America/Port_of_Spain:20250928T153000
DTSTAMP:20260425T121515
CREATED:20250908T224415Z
LAST-MODIFIED:20250916T145156Z
UID:378322-1759066200-1759073400@ttfilmfestival.com
SUMMARY:The Fisherman
DESCRIPTION:In this Venice Film Festival-winning feast of magical realist comedy\, aging Ghanaian\, Atta Oko\, sets his sights on finally having his own boat and becoming the envy of his village.
URL:https://ttfilmfestival.com/event/the-fisherman/
LOCATION:IMAX Cinema\, One Woodbrook Place\, Port of Spain\, Trinidad and Tobago
CATEGORIES:Screening
END:VEVENT
BEGIN:VEVENT
DTSTART;TZID=America/Port_of_Spain:20250928T163000
DTEND;TZID=America/Port_of_Spain:20250928T180000
DTSTAMP:20260425T121515
CREATED:20250903T175010Z
LAST-MODIFIED:20250903T175010Z
UID:377858-1759077000-1759082400@ttfilmfestival.com
SUMMARY:The Disappearance of Miss Scott
DESCRIPTION:‘The Disappearance of Miss Scott’ is an intimate and urgent reclamation of the life and legacy of Hazel Scott – Trinidadian born\, virtuoso pianist\, Hollywood trailblazer\, civil rights crusader\, and the first Black person to host a nationally syndicated television show.
URL:https://ttfilmfestival.com/event/the-disappearance-of-miss-scott/
LOCATION:IMAX Cinema\, One Woodbrook Place\, Port of Spain\, Trinidad and Tobago
CATEGORIES:Screening
END:VEVENT
BEGIN:VEVENT
DTSTART;TZID=America/Port_of_Spain:20250928T173000
DTEND;TZID=America/Port_of_Spain:20250928T190000
DTSTAMP:20260425T121515
CREATED:20250903T201635Z
LAST-MODIFIED:20250903T202201Z
UID:377907-1759080600-1759086000@ttfilmfestival.com
SUMMARY:The True Chronicles Of The Blida-Joinville Psychiatric Hospital From The Last Century When Dr Frantz Fanon was Head of Fifth Ward Between 1953 & 1956/ special presentation
DESCRIPTION:In 1953\, colonized Algeria\, Fanon\, a young black psychiatrist\, was appointed head doctor at the Blida-Joinville Hospital.
URL:https://ttfilmfestival.com/event/the-true-chronicles-of-the-blida-joinville-psychiatric-hospital-from-the-last-century-when-dr-frantz-fanon-was-head-of-fifth-ward-between-1953-1956-special-presentation/
LOCATION:4DX Cinema\, One Woodbrook Place\, Port of Spain\, Trinidad and Tobago
CATEGORIES:Screening
END:VEVENT
BEGIN:VEVENT
DTSTART;TZID=America/Port_of_Spain:20250928T180000
DTEND;TZID=America/Port_of_Spain:20250928T200000
DTSTAMP:20260425T121515
CREATED:20250903T200315Z
LAST-MODIFIED:20250916T134823Z
UID:377905-1759082400-1759089600@ttfilmfestival.com
SUMMARY:1964: Simityè Kamoken
DESCRIPTION:After being elected to power in 1957\, François Duvalier declared himself Haiti’s President for life in 1964\, inaugurating one of the most bloodthirsty dictatorships of the 20th century – maintained through violent repression and brutal obscurantism.
URL:https://ttfilmfestival.com/event/1964-simitye-kamoken-2/
LOCATION:Gemstone: Azure\, One Woodbrook Place\, Port of Spain\, Trinidad and Tobago
CATEGORIES:Screening
END:VEVENT
BEGIN:VEVENT
DTSTART;TZID=America/Port_of_Spain:20250928T190000
DTEND;TZID=America/Port_of_Spain:20250928T203000
DTSTAMP:20260425T121515
CREATED:20250903T193259Z
LAST-MODIFIED:20250903T193259Z
UID:377901-1759086000-1759091400@ttfilmfestival.com
SUMMARY:A mother apart
DESCRIPTION:How do you raise a child when your own mother abandoned you?
URL:https://ttfilmfestival.com/event/a-mother-apart-2/
LOCATION:IMAX Cinema\, One Woodbrook Place\, Port of Spain\, Trinidad and Tobago
CATEGORIES:Screening
END:VEVENT
BEGIN:VEVENT
DTSTART;TZID=America/Port_of_Spain:20250929T110000
DTEND;TZID=America/Port_of_Spain:20250929T123000
DTSTAMP:20260425T121515
CREATED:20250903T191150Z
LAST-MODIFIED:20250903T191150Z
UID:377893-1759143600-1759149000@ttfilmfestival.com
SUMMARY:Everyday dignity: Philomena Essed
DESCRIPTION:Forty years ago\, scholar Philomena Essed sparked fierce public debate with her groundbreaking book\, Everyday Racism.
URL:https://ttfilmfestival.com/event/everyday-dignity-philomena-essed-2/
LOCATION:Gemstone: Amethyst\, One Woodbrook Place\, Port of Spain\, Trinidad and Tobago
CATEGORIES:Screening
END:VEVENT
BEGIN:VEVENT
DTSTART;TZID=America/Port_of_Spain:20250929T113000
DTEND;TZID=America/Port_of_Spain:20250929T133000
DTSTAMP:20260425T121515
CREATED:20250903T182046Z
LAST-MODIFIED:20250903T182046Z
UID:377871-1759145400-1759152600@ttfilmfestival.com
SUMMARY:Sugar island
DESCRIPTION:An unwanted pregnancy triggers the journey into adulthood for Makenya\, a Dominican-Haitian teenager who lives in the Batey\, a community surrounded by sugarcane fields.
URL:https://ttfilmfestival.com/event/sugar-island-2/
LOCATION:Gemstone: Azure\, One Woodbrook Place\, Port of Spain\, Trinidad and Tobago
CATEGORIES:Screening
END:VEVENT
END:VCALENDAR