BEGIN:VCALENDAR
VERSION:2.0
PRODID:-//Trinidad &amp; Tobago Film Festival - ECPv6.15.20//NONSGML v1.0//EN
CALSCALE:GREGORIAN
METHOD:PUBLISH
X-WR-CALNAME:Trinidad &amp; Tobago Film Festival
X-ORIGINAL-URL:https://ttfilmfestival.com
X-WR-CALDESC:Events for Trinidad &amp; Tobago Film Festival
REFRESH-INTERVAL;VALUE=DURATION:PT1H
X-Robots-Tag:noindex
X-PUBLISHED-TTL:PT1H
BEGIN:VTIMEZONE
TZID:America/Port_of_Spain
BEGIN:STANDARD
TZOFFSETFROM:-0400
TZOFFSETTO:-0400
TZNAME:AST
DTSTART:20240101T000000
END:STANDARD
END:VTIMEZONE
BEGIN:VEVENT
DTSTART;TZID=America/Port_of_Spain:20250926T103000
DTEND;TZID=America/Port_of_Spain:20251022T120000
DTSTAMP:20260424T074456
CREATED:20250831T182503Z
LAST-MODIFIED:20250831T182525Z
UID:377752-1758882600-1761134400@ttfilmfestival.com
SUMMARY:Monikondee
DESCRIPTION:For centuries\, Suriname’s Maroons have preserved ancestral traditions and resisted capitalist encroachment. But climate change and gold mining now threaten their way of life.
URL:https://ttfilmfestival.com/event/monikondee/
LOCATION:4DX Cinema\, One Woodbrook Place\, Port of Spain\, Trinidad and Tobago
CATEGORIES:Screening
END:VEVENT
BEGIN:VEVENT
DTSTART;TZID=America/Port_of_Spain:20250926T180000
DTEND;TZID=America/Port_of_Spain:20251022T200000
DTSTAMP:20260424T074456
CREATED:20250831T181821Z
LAST-MODIFIED:20250920T175559Z
UID:377748-1758909600-1761163200@ttfilmfestival.com
SUMMARY:The Panama Canal treaties - son of tiger & mule
DESCRIPTION:On December 31st\, 1999\, the United States officially returned the control of the canal to Panama\, honoring the Torrijos-Carter Treaties.
URL:https://ttfilmfestival.com/event/the-panama-canal-treaties-son-of-tiger-mule/
LOCATION:Gemstone: Amethyst\, One Woodbrook Place\, Port of Spain\, Trinidad and Tobago
CATEGORIES:Screening
END:VEVENT
BEGIN:VEVENT
DTSTART;TZID=America/Port_of_Spain:20250928T103000
DTEND;TZID=America/Port_of_Spain:20250928T123000
DTSTAMP:20260424T074456
CREATED:20250903T183143Z
LAST-MODIFIED:20250903T183143Z
UID:377875-1759055400-1759062600@ttfilmfestival.com
SUMMARY:The Panama Canal Treaties – Son of Tiger & Mule
DESCRIPTION:On December 31st\, 1999\, the United States officially returned the control of the canal to Panama\, honoring the Torrijos-Carter Treaties. Behind the historic signing lay a complex web of international diplomacy and intrigue\, steered by General Omar Torrijos.
URL:https://ttfilmfestival.com/event/the-panama-canal-treaties-son-of-tiger-mule-2/
LOCATION:Gemstone: Azure\, One Woodbrook Place\, Port of Spain\, Trinidad and Tobago
CATEGORIES:Screening
END:VEVENT
BEGIN:VEVENT
DTSTART;TZID=America/Port_of_Spain:20250928T110000
DTEND;TZID=America/Port_of_Spain:20250928T123000
DTSTAMP:20260424T074456
CREATED:20250903T183738Z
LAST-MODIFIED:20250903T183738Z
UID:377877-1759057200-1759062600@ttfilmfestival.com
SUMMARY:Olivia and the clouds
DESCRIPTION:‘Olivia and the clouds’ is a surreal exploration of love’s complexities.
URL:https://ttfilmfestival.com/event/olivia-and-the-clouds/
LOCATION:IMAX Cinema\, One Woodbrook Place\, Port of Spain\, Trinidad and Tobago
CATEGORIES:Screening
END:VEVENT
BEGIN:VEVENT
DTSTART;TZID=America/Port_of_Spain:20250928T123000
DTEND;TZID=America/Port_of_Spain:20250928T143000
DTSTAMP:20260424T074456
CREATED:20250903T182718Z
LAST-MODIFIED:20250903T182718Z
UID:377873-1759062600-1759069800@ttfilmfestival.com
SUMMARY:Possible landscapes
DESCRIPTION:‘Possible landscapes’ is a poignant exploration of intergenerational experiences of Caribbean environments\, filmed across two seasons in Trinidad and Tobago.
URL:https://ttfilmfestival.com/event/possible-landscapes-2/
LOCATION:4DX Cinema\, One Woodbrook Place\, Port of Spain\, Trinidad and Tobago
CATEGORIES:Screening
END:VEVENT
BEGIN:VEVENT
DTSTART;TZID=America/Port_of_Spain:20250928T130000
DTEND;TZID=America/Port_of_Spain:20250928T143000
DTSTAMP:20260424T074456
CREATED:20250903T192048Z
LAST-MODIFIED:20250903T192048Z
UID:377895-1759064400-1759069800@ttfilmfestival.com
SUMMARY:Colosal
DESCRIPTION:All families keep secrets\, says director Nayibe Tavares-Abel. Hers are intimately intertwined with the democratic history of the Dominican Republic.
URL:https://ttfilmfestival.com/event/colosal-2/
LOCATION:Gemstone: Azure\, One Woodbrook Place\, Port of Spain\, Trinidad and Tobago
CATEGORIES:Screening
END:VEVENT
BEGIN:VEVENT
DTSTART;TZID=America/Port_of_Spain:20250928T133000
DTEND;TZID=America/Port_of_Spain:20250928T153000
DTSTAMP:20260424T074456
CREATED:20250908T224415Z
LAST-MODIFIED:20250916T145156Z
UID:378322-1759066200-1759073400@ttfilmfestival.com
SUMMARY:The Fisherman
DESCRIPTION:In this Venice Film Festival-winning feast of magical realist comedy\, aging Ghanaian\, Atta Oko\, sets his sights on finally having his own boat and becoming the envy of his village.
URL:https://ttfilmfestival.com/event/the-fisherman/
LOCATION:IMAX Cinema\, One Woodbrook Place\, Port of Spain\, Trinidad and Tobago
CATEGORIES:Screening
END:VEVENT
BEGIN:VEVENT
DTSTART;TZID=America/Port_of_Spain:20250928T163000
DTEND;TZID=America/Port_of_Spain:20250928T180000
DTSTAMP:20260424T074456
CREATED:20250903T175010Z
LAST-MODIFIED:20250903T175010Z
UID:377858-1759077000-1759082400@ttfilmfestival.com
SUMMARY:The Disappearance of Miss Scott
DESCRIPTION:‘The Disappearance of Miss Scott’ is an intimate and urgent reclamation of the life and legacy of Hazel Scott – Trinidadian born\, virtuoso pianist\, Hollywood trailblazer\, civil rights crusader\, and the first Black person to host a nationally syndicated television show.
URL:https://ttfilmfestival.com/event/the-disappearance-of-miss-scott/
LOCATION:IMAX Cinema\, One Woodbrook Place\, Port of Spain\, Trinidad and Tobago
CATEGORIES:Screening
END:VEVENT
BEGIN:VEVENT
DTSTART;TZID=America/Port_of_Spain:20250928T173000
DTEND;TZID=America/Port_of_Spain:20250928T190000
DTSTAMP:20260424T074456
CREATED:20250903T201635Z
LAST-MODIFIED:20250903T202201Z
UID:377907-1759080600-1759086000@ttfilmfestival.com
SUMMARY:The True Chronicles Of The Blida-Joinville Psychiatric Hospital From The Last Century When Dr Frantz Fanon was Head of Fifth Ward Between 1953 & 1956/ special presentation
DESCRIPTION:In 1953\, colonized Algeria\, Fanon\, a young black psychiatrist\, was appointed head doctor at the Blida-Joinville Hospital.
URL:https://ttfilmfestival.com/event/the-true-chronicles-of-the-blida-joinville-psychiatric-hospital-from-the-last-century-when-dr-frantz-fanon-was-head-of-fifth-ward-between-1953-1956-special-presentation/
LOCATION:4DX Cinema\, One Woodbrook Place\, Port of Spain\, Trinidad and Tobago
CATEGORIES:Screening
END:VEVENT
BEGIN:VEVENT
DTSTART;TZID=America/Port_of_Spain:20250928T180000
DTEND;TZID=America/Port_of_Spain:20250928T200000
DTSTAMP:20260424T074456
CREATED:20250903T200315Z
LAST-MODIFIED:20250916T134823Z
UID:377905-1759082400-1759089600@ttfilmfestival.com
SUMMARY:1964: Simityè Kamoken
DESCRIPTION:After being elected to power in 1957\, François Duvalier declared himself Haiti’s President for life in 1964\, inaugurating one of the most bloodthirsty dictatorships of the 20th century – maintained through violent repression and brutal obscurantism.
URL:https://ttfilmfestival.com/event/1964-simitye-kamoken-2/
LOCATION:Gemstone: Azure\, One Woodbrook Place\, Port of Spain\, Trinidad and Tobago
CATEGORIES:Screening
END:VEVENT
BEGIN:VEVENT
DTSTART;TZID=America/Port_of_Spain:20250928T190000
DTEND;TZID=America/Port_of_Spain:20250928T203000
DTSTAMP:20260424T074456
CREATED:20250903T193259Z
LAST-MODIFIED:20250903T193259Z
UID:377901-1759086000-1759091400@ttfilmfestival.com
SUMMARY:A mother apart
DESCRIPTION:How do you raise a child when your own mother abandoned you?
URL:https://ttfilmfestival.com/event/a-mother-apart-2/
LOCATION:IMAX Cinema\, One Woodbrook Place\, Port of Spain\, Trinidad and Tobago
CATEGORIES:Screening
END:VEVENT
END:VCALENDAR