BEGIN:VCALENDAR
VERSION:2.0
PRODID:-//Trinidad &amp; Tobago Film Festival - ECPv6.15.20//NONSGML v1.0//EN
CALSCALE:GREGORIAN
METHOD:PUBLISH
X-WR-CALNAME:Trinidad &amp; Tobago Film Festival
X-ORIGINAL-URL:https://ttfilmfestival.com
X-WR-CALDESC:Events for Trinidad &amp; Tobago Film Festival
REFRESH-INTERVAL;VALUE=DURATION:PT1H
X-Robots-Tag:noindex
X-PUBLISHED-TTL:PT1H
BEGIN:VTIMEZONE
TZID:America/Port_of_Spain
BEGIN:STANDARD
TZOFFSETFROM:-0400
TZOFFSETTO:-0400
TZNAME:AST
DTSTART:20240101T000000
END:STANDARD
END:VTIMEZONE
BEGIN:VEVENT
DTSTART;TZID=America/Port_of_Spain:20250924T153000
DTEND;TZID=America/Port_of_Spain:20250924T173000
DTSTAMP:20260424T091927
CREATED:20250831T164717Z
LAST-MODIFIED:20250920T170004Z
UID:377717-1758727800-1758735000@ttfilmfestival.com
SUMMARY:Queen of soca
DESCRIPTION:‘Queen of soca’ follows the journey of Olivia\, a singer from the slums of Trinidad who uses her talent to escape an impoverished life despite her religious mother’s determination to stop her from getting involved in soca music. As a track she records goes viral\, Olivia is invited to participate in “The Greatest Show on Earth” (the biggest soca competition in the country). Will she be able to rise to the occasion and take the title from the reigning queen?
URL:https://ttfilmfestival.com/event/queen-of-soca/
LOCATION:4DX Cinema\, One Woodbrook Place\, Port of Spain\, Trinidad and Tobago
CATEGORIES:Screening
ATTACH;FMTTYPE=image/jpeg:https://ttfilmfestival.com/wp-content/uploads/2025/08/Queen-of-Soca_Still-1-scaled.jpg
END:VEVENT
BEGIN:VEVENT
DTSTART;TZID=America/Port_of_Spain:20250924T153000
DTEND;TZID=America/Port_of_Spain:20250924T173000
DTSTAMP:20260424T091927
CREATED:20250911T202053Z
LAST-MODIFIED:20250911T202053Z
UID:378439-1758727800-1758735000@ttfilmfestival.com
SUMMARY:RETROSPECTIVE 2
DESCRIPTION:The Retrospective programme centres and celebrates the film work of trailblazing Caribbean makers. For TTFF/25 we honour Trinidad and Tobago/Canada filmmaker\, Richard Fung. 
URL:https://ttfilmfestival.com/event/retrospective-2-2/
LOCATION:Cinema One: San Fernando\, Gulf City Mall\, San Fernando\, Trinidad and Tobago
CATEGORIES:Screening
END:VEVENT
BEGIN:VEVENT
DTSTART;TZID=America/Port_of_Spain:20250924T183000
DTEND;TZID=America/Port_of_Spain:20250924T203000
DTSTAMP:20260424T091927
CREATED:20250831T165144Z
LAST-MODIFIED:20250920T165931Z
UID:377720-1758738600-1758745800@ttfilmfestival.com
SUMMARY:Queen of soca
DESCRIPTION:‘Queen of soca’ follows the journey of Olivia\, a singer from the slums of Trinidad who uses her talent to escape an impoverished life despite her religious mother’s determination to stop her from getting involved in soca music. As a track she records goes viral\, Olivia is invited to participate in “The Greatest Show on Earth” (the biggest soca competition in the country). Will she be able to rise to the occasion and take the title from the reigning queen?
URL:https://ttfilmfestival.com/event/queen-of-soca-2/
LOCATION:Cinema One: Chaguanas\, Rajkumar Rd\, Chaguanas\, Trinidad and Tobago
CATEGORIES:Screening
ATTACH;FMTTYPE=image/jpeg:https://ttfilmfestival.com/wp-content/uploads/2025/08/Queen-of-Soca_Still-1-scaled.jpg
END:VEVENT
BEGIN:VEVENT
DTSTART;TZID=America/Port_of_Spain:20250924T210000
DTEND;TZID=America/Port_of_Spain:20250924T230000
DTSTAMP:20260424T091927
CREATED:20250831T165635Z
LAST-MODIFIED:20250920T165804Z
UID:377723-1758747600-1758754800@ttfilmfestival.com
SUMMARY:Queen of soca
DESCRIPTION:‘Queen of soca’ follows the journey of Olivia\, a singer from the slums of Trinidad who uses her talent to escape an impoverished life despite her religious mother’s determination to stop her from getting involved in soca music. As a track she records goes viral\, Olivia is invited to participate in “The Greatest Show on Earth” (the biggest soca competition in the country). Will she be able to rise to the occasion and take the title from the reigning queen?
URL:https://ttfilmfestival.com/event/queen-of-soca-3/
LOCATION:Cinema One: San Fernando\, Gulf City Mall\, San Fernando\, Trinidad and Tobago
CATEGORIES:Screening
ATTACH;FMTTYPE=image/jpeg:https://ttfilmfestival.com/wp-content/uploads/2025/08/Queen-of-Soca_Still-1-scaled.jpg
END:VEVENT
BEGIN:VEVENT
DTSTART;TZID=America/Port_of_Spain:20250924T213000
DTEND;TZID=America/Port_of_Spain:20250924T230000
DTSTAMP:20260424T091927
CREATED:20250911T201553Z
LAST-MODIFIED:20250920T165527Z
UID:378330-1758749400-1758754800@ttfilmfestival.com
SUMMARY:RETROSPECTIVE 2
DESCRIPTION:The Retrospective programme centres and celebrates the film work of trailblazing Caribbean makers. For TTFF/25 we honour Trinidad and Tobago/Canada filmmaker\, Richard Fung. 
URL:https://ttfilmfestival.com/event/retrospective-2/
LOCATION:Cinema One: Chaguanas\, Rajkumar Rd\, Chaguanas\, Trinidad and Tobago
CATEGORIES:Screening
END:VEVENT
END:VCALENDAR