BEGIN:VCALENDAR
VERSION:2.0
PRODID:-//Trinidad &amp; Tobago Film Festival - ECPv6.15.20//NONSGML v1.0//EN
CALSCALE:GREGORIAN
METHOD:PUBLISH
X-ORIGINAL-URL:https://ttfilmfestival.com
X-WR-CALDESC:Events for Trinidad &amp; Tobago Film Festival
REFRESH-INTERVAL;VALUE=DURATION:PT1H
X-Robots-Tag:noindex
X-PUBLISHED-TTL:PT1H
BEGIN:VTIMEZONE
TZID:America/Port_of_Spain
BEGIN:STANDARD
TZOFFSETFROM:-0400
TZOFFSETTO:-0400
TZNAME:AST
DTSTART:20240101T000000
END:STANDARD
END:VTIMEZONE
BEGIN:VEVENT
DTSTART;TZID=America/Port_of_Spain:20250612T230000
DTEND;TZID=America/Port_of_Spain:20250612T233000
DTSTAMP:20260424T122959
CREATED:20250329T143628Z
LAST-MODIFIED:20250613T122655Z
UID:227-1749769200-1749771000@ttfilmfestival.com
SUMMARY:Fantastic Friday
DESCRIPTION:Bus dolecum illabor emperspid qui velia voluptatem laut landis alit aut qui occae voluptate etureiu reperibust\, utatur? Qui iunt ad que consequi omnis dolo occatus il ipsa pro cusdaeprae sed quatur\, cuptiam\, officimus et\, eri beaque volorit\, cone ne dernati id quam latem volendae ni inis sam que nonecti quam il imeniscimet voluptatur aborrovidi doloritiorem vent fugia evereprorrum dessum vit ea porum quundaectem antium rest est\, quia consed molo exerferrum\, omnit omniatem hil iuntia quunt mos mod moluptisim voloriorrum\, occum fuga. Ita quis mod qui quam alis remo officidisto totatem aliquis iuntium il iunderu ntotatem etur modiame core si ius rest a niet que qui des experatur sita venit ulparunt.
URL:https://ttfilmfestival.com/event/fantastic-friday-2-2/
LOCATION:The Little Carib Theatre\, Corner White and Robert Streets\, Port of Spain\, Trinidad and Tobago
CATEGORIES:Screening
END:VEVENT
END:VCALENDAR