BEGIN:VCALENDAR
VERSION:2.0
PRODID:-//Trinidad &amp; Tobago Film Festival - ECPv6.15.20//NONSGML v1.0//EN
CALSCALE:GREGORIAN
METHOD:PUBLISH
X-WR-CALNAME:Trinidad &amp; Tobago Film Festival
X-ORIGINAL-URL:https://ttfilmfestival.com
X-WR-CALDESC:Events for Trinidad &amp; Tobago Film Festival
REFRESH-INTERVAL;VALUE=DURATION:PT1H
X-Robots-Tag:noindex
X-PUBLISHED-TTL:PT1H
BEGIN:VTIMEZONE
TZID:America/Port_of_Spain
BEGIN:STANDARD
TZOFFSETFROM:-0400
TZOFFSETTO:-0400
TZNAME:AST
DTSTART:20240101T000000
END:STANDARD
END:VTIMEZONE
BEGIN:VEVENT
DTSTART;TZID=America/Port_of_Spain:20250927T100000
DTEND;TZID=America/Port_of_Spain:20250927T113000
DTSTAMP:20260424T075951
CREATED:20250905T202128Z
LAST-MODIFIED:20250920T170435Z
UID:378204-1758967200-1758972600@ttfilmfestival.com
SUMMARY:FILM SCHOOL SHORTS 2
DESCRIPTION:Short films from student filmmakers around the Caribbean
URL:https://ttfilmfestival.com/event/film-school-shorts-2-2/
LOCATION:4DX Cinema\, One Woodbrook Place\, Port of Spain\, Trinidad and Tobago
CATEGORIES:screening-multi-film
ATTACH;FMTTYPE=image/jpeg:https://ttfilmfestival.com/wp-content/uploads/2025/09/SCB_NW_WEB_FINAL_5.1_2023-10-15.01_07_00_19.Still007-Nande-Walters.jpg
END:VEVENT
BEGIN:VEVENT
DTSTART;TZID=America/Port_of_Spain:20250927T100000
DTEND;TZID=America/Port_of_Spain:20250927T120000
DTSTAMP:20260424T075951
CREATED:20250903T220409Z
LAST-MODIFIED:20250915T182508Z
UID:377912-1758967200-1758974400@ttfilmfestival.com
SUMMARY:STORYTIME: Family friendly
DESCRIPTION:A star child\, a forest spirit\, a goat on a quest\, nothing here stays ordinary for long. These tales open portals through difference\, and fear\, where magic isn’t an escape\, but a way to face the world. Wonder is serious business.
URL:https://ttfilmfestival.com/event/storytime-family-friendly/
LOCATION:IMAX Cinema\, One Woodbrook Place\, Port of Spain\, Trinidad and Tobago
CATEGORIES:screening-multi-film
ATTACH;FMTTYPE=image/jpeg:https://ttfilmfestival.com/wp-content/uploads/2025/09/Sandwiched_SHAREEF_FilmPoster-Mahrinna.jpg
END:VEVENT
BEGIN:VEVENT
DTSTART;TZID=America/Port_of_Spain:20250927T123000
DTEND;TZID=America/Port_of_Spain:20250927T143000
DTSTAMP:20260424T075951
CREATED:20250908T233651Z
LAST-MODIFIED:20250920T164853Z
UID:378337-1758976200-1758983400@ttfilmfestival.com
SUMMARY:STRIDE: films from Trinidad and Tobago
DESCRIPTION:Art becomes motion\, and motion becomes a way to name where a nation stands and where it insists on going. There is a movement – finding stride through arts\, finding stride as a nation.
URL:https://ttfilmfestival.com/event/stride/
LOCATION:4DX Cinema\, One Woodbrook Place\, Port of Spain\, Trinidad and Tobago
CATEGORIES:screening-multi-film
END:VEVENT
BEGIN:VEVENT
DTSTART;TZID=America/Port_of_Spain:20250927T130000
DTEND;TZID=America/Port_of_Spain:20250927T190000
DTSTAMP:20260424T075951
CREATED:20250911T204110Z
LAST-MODIFIED:20250911T204220Z
UID:378443-1758978000-1758999600@ttfilmfestival.com
SUMMARY:RETROSPECTIVE 3
DESCRIPTION:The Retrospective programme centres and celebrates the film work of trailblazing Caribbean makers. For TTFF/25 we honour Trinidad and Tobago/Canada filmmaker\, Richard Fung. 
URL:https://ttfilmfestival.com/event/retrospective-3/
LOCATION:The Frame Shop\, 65 Carlos Street\, Woodbrook\, Trinidad and Tobago
CATEGORIES:screening-multi-film
ATTACH;FMTTYPE=image/png:https://ttfilmfestival.com/wp-content/uploads/2025/09/Screenshot-2025-09-08-181800.png
END:VEVENT
BEGIN:VEVENT
DTSTART;TZID=America/Port_of_Spain:20250927T150000
DTEND;TZID=America/Port_of_Spain:20250927T170000
DTSTAMP:20260424T075951
CREATED:20250905T171127Z
LAST-MODIFIED:20250905T171127Z
UID:378114-1758985200-1758992400@ttfilmfestival.com
SUMMARY:BREAK THE FRAME
DESCRIPTION:Form cracks. Intimacies misbehave. What doesn’t fit gets louder. What doesn’t bend\, breaks back.
URL:https://ttfilmfestival.com/event/break-the-frame-2/
LOCATION:4DX Cinema\, One Woodbrook Place\, Port of Spain\, Trinidad and Tobago
CATEGORIES:screening-multi-film
ATTACH;FMTTYPE=image/png:https://ttfilmfestival.com/wp-content/uploads/2025/09/Screenshot-2025-09-05-111209.png
END:VEVENT
BEGIN:VEVENT
DTSTART;TZID=America/Port_of_Spain:20250927T153000
DTEND;TZID=America/Port_of_Spain:20250927T173000
DTSTAMP:20260424T075951
CREATED:20250904T184715Z
LAST-MODIFIED:20250920T165333Z
UID:377914-1758987000-1758994200@ttfilmfestival.com
SUMMARY:KAIRI : Films from Trinidad and Tobago
DESCRIPTION:Not a return. Not a beginning\, but the sound of our island that’s still here
URL:https://ttfilmfestival.com/event/kairi-films-from-trinidad-and-tobago/
LOCATION:IMAX Cinema\, One Woodbrook Place\, Port of Spain\, Trinidad and Tobago
CATEGORIES:screening-multi-film
ATTACH;FMTTYPE=image/png:https://ttfilmfestival.com/wp-content/uploads/2025/09/NNNN-PRESS-STILLS_2.1.6-Oliver-Milne-2.png
END:VEVENT
BEGIN:VEVENT
DTSTART;TZID=America/Port_of_Spain:20250927T180000
DTEND;TZID=America/Port_of_Spain:20250927T200000
DTSTAMP:20260424T075951
CREATED:20250904T164843Z
LAST-MODIFIED:20250920T173212Z
UID:377977-1758996000-1759003200@ttfilmfestival.com
SUMMARY:PROCESS
DESCRIPTION:Memory doesn’t always arrive whole\, sometimes it’s passed down in sketches\, stitches\, and scraps of unfinished stories. These films trace artistic legacies through hands\, homes\, and histories\, revealing how creation becomes a form of kinship\, showing us us how inheritance gets reassembled in the wake of rupture.
URL:https://ttfilmfestival.com/event/process/
LOCATION:4DX Cinema\, One Woodbrook Place\, Port of Spain\, Trinidad and Tobago
CATEGORIES:screening-multi-film
ATTACH;FMTTYPE=image/png:https://ttfilmfestival.com/wp-content/uploads/2025/09/Jackie-Hinkson-the-bottom-link_STILL-2.png
END:VEVENT
END:VCALENDAR