BEGIN:VCALENDAR
VERSION:2.0
PRODID:-//Trinidad &amp; Tobago Film Festival - ECPv6.15.20//NONSGML v1.0//EN
CALSCALE:GREGORIAN
METHOD:PUBLISH
X-WR-CALNAME:Trinidad &amp; Tobago Film Festival
X-ORIGINAL-URL:https://ttfilmfestival.com
X-WR-CALDESC:Events for Trinidad &amp; Tobago Film Festival
REFRESH-INTERVAL;VALUE=DURATION:PT1H
X-Robots-Tag:noindex
X-PUBLISHED-TTL:PT1H
BEGIN:VTIMEZONE
TZID:America/Port_of_Spain
BEGIN:STANDARD
TZOFFSETFROM:-0400
TZOFFSETTO:-0400
TZNAME:AST
DTSTART:20240101T000000
END:STANDARD
END:VTIMEZONE
BEGIN:VEVENT
DTSTART;TZID=America/Port_of_Spain:20250926T103000
DTEND;TZID=America/Port_of_Spain:20250926T120000
DTSTAMP:20260424T075900
CREATED:20250904T163153Z
LAST-MODIFIED:20250915T174045Z
UID:377974-1758882600-1758888000@ttfilmfestival.com
SUMMARY:FREE UP
DESCRIPTION:Play isn’t an escape – it’s how you fight back\, stitch joy into the cracks\, and turn survival into style. Skating\, bubbling\, strutting\, remembering\, each act a form of improvisation\, a claim to space\, a refusal to vanish. From carnival queens to shuttered community centers\, this is play as pulse\, protest\, and possibility.
URL:https://ttfilmfestival.com/event/free-up-2/
LOCATION:Gemstone: Azure\, One Woodbrook Place\, Port of Spain\, Trinidad and Tobago
CATEGORIES:screening-multi-film
ATTACH;FMTTYPE=image/png:https://ttfilmfestival.com/wp-content/uploads/2025/09/DANCINGONROAD_GEE_STILL2-Cassius-Banton-scaled.png
END:VEVENT
BEGIN:VEVENT
DTSTART;TZID=America/Port_of_Spain:20250926T113000
DTEND;TZID=America/Port_of_Spain:20250926T130000
DTSTAMP:20260424T075900
CREATED:20250901T163550Z
LAST-MODIFIED:20250920T170949Z
UID:377775-1758886200-1758891600@ttfilmfestival.com
SUMMARY:HOLDING ON
DESCRIPTION:Coastal and rural workers are being squeezed out of the futures they’ve sustained for generations. This programme invites a reckoning: not with loss\, but with the systems making survival impossible.
URL:https://ttfilmfestival.com/event/holding-on-2/
LOCATION:IMAX Cinema\, One Woodbrook Place\, Port of Spain\, Trinidad and Tobago
CATEGORIES:screening-multi-film
ATTACH;FMTTYPE=image/png:https://ttfilmfestival.com/wp-content/uploads/2025/08/TRINITARIO-ON-THE-EDGE_SPECK_Still1-Denise-S.png
END:VEVENT
BEGIN:VEVENT
DTSTART;TZID=America/Port_of_Spain:20250926T153000
DTEND;TZID=America/Port_of_Spain:20250926T170000
DTSTAMP:20260424T075900
CREATED:20250904T182832Z
LAST-MODIFIED:20250926T165400Z
UID:378018-1758900600-1758906000@ttfilmfestival.com
SUMMARY:AINMA MUNDI
DESCRIPTION:Orishas ride the tide. Trees speak in tongues. Flesh and bone\, moving with the breath of ancestors and the pull of root systems older than written word. The body leans in. Our breath collective. The land holds us.
URL:https://ttfilmfestival.com/event/ainma-mundi/
LOCATION:Gemstone: Amethyst\, One Woodbrook Place\, Port of Spain\, Trinidad and Tobago
CATEGORIES:screening-multi-film
ATTACH;FMTTYPE=image/jpeg:https://ttfilmfestival.com/wp-content/uploads/2025/09/33land.scape_notes_on_exile_shortfilm_stills_©BMacaulay--scaled.jpeg
END:VEVENT
BEGIN:VEVENT
DTSTART;TZID=America/Port_of_Spain:20250926T210000
DTEND;TZID=America/Port_of_Spain:20250926T223000
DTSTAMP:20260424T075900
CREATED:20250905T203623Z
LAST-MODIFIED:20250905T203623Z
UID:378211-1758920400-1758925800@ttfilmfestival.com
SUMMARY:FILM SCHOOL SHORTS 1
DESCRIPTION:Short films from student filmmakers around the Caribbean.
URL:https://ttfilmfestival.com/event/film-school-shorts-1-2/
LOCATION:4DX Cinema\, One Woodbrook Place\, Port of Spain\, Trinidad and Tobago
CATEGORIES:screening-multi-film
ATTACH;FMTTYPE=image/jpeg:https://ttfilmfestival.com/wp-content/uploads/2025/09/Evangeline_Desouzasamanek_still2-Peter-D-1-scaled.jpeg
END:VEVENT
END:VCALENDAR