BEGIN:VCALENDAR
VERSION:2.0
PRODID:-//Trinidad &amp; Tobago Film Festival - ECPv6.15.20//NONSGML v1.0//EN
CALSCALE:GREGORIAN
METHOD:PUBLISH
X-ORIGINAL-URL:https://ttfilmfestival.com
X-WR-CALDESC:Events for Trinidad &amp; Tobago Film Festival
REFRESH-INTERVAL;VALUE=DURATION:PT1H
X-Robots-Tag:noindex
X-PUBLISHED-TTL:PT1H
BEGIN:VTIMEZONE
TZID:America/Port_of_Spain
BEGIN:STANDARD
TZOFFSETFROM:-0400
TZOFFSETTO:-0400
TZNAME:AST
DTSTART:20240101T000000
END:STANDARD
END:VTIMEZONE
BEGIN:VEVENT
DTSTART;TZID=America/Port_of_Spain:20250925T100000
DTEND;TZID=America/Port_of_Spain:20250925T120000
DTSTAMP:20260424T080236
CREATED:20250905T170719Z
LAST-MODIFIED:20250905T170719Z
UID:378083-1758794400-1758801600@ttfilmfestival.com
SUMMARY:BREAK THE FRAME
DESCRIPTION:Form cracks. Intimacies misbehave. What doesn’t fit gets louder. What doesn’t bend\, breaks back.
URL:https://ttfilmfestival.com/event/break-the-frame/
LOCATION:Gemstone: Amethyst\, One Woodbrook Place\, Port of Spain\, Trinidad and Tobago
CATEGORIES:screening-multi-film
ATTACH;FMTTYPE=image/png:https://ttfilmfestival.com/wp-content/uploads/2025/09/Screenshot-2025-09-05-111209.png
END:VEVENT
BEGIN:VEVENT
DTSTART;TZID=America/Port_of_Spain:20250925T103000
DTEND;TZID=America/Port_of_Spain:20250925T123000
DTSTAMP:20260424T080236
CREATED:20250904T165235Z
LAST-MODIFIED:20250920T173231Z
UID:377980-1758796200-1758803400@ttfilmfestival.com
SUMMARY:PROCESS
DESCRIPTION:Memory doesn’t always arrive whole\, sometimes it’s passed down in sketches\, stitches\, and scraps of unfinished stories. These films trace artistic legacies through hands\, homes\, and histories\, revealing how creation becomes a form of kinship\, showing us us how inheritance gets reassembled in the wake of rupture.
URL:https://ttfilmfestival.com/event/process-2/
LOCATION:4DX Cinema\, One Woodbrook Place\, Port of Spain\, Trinidad and Tobago
CATEGORIES:screening-multi-film
ATTACH;FMTTYPE=image/png:https://ttfilmfestival.com/wp-content/uploads/2025/09/Jackie-Hinkson-the-bottom-link_STILL-2.png
END:VEVENT
BEGIN:VEVENT
DTSTART;TZID=America/Port_of_Spain:20250925T103000
DTEND;TZID=America/Port_of_Spain:20250925T123000
DTSTAMP:20260424T080236
CREATED:20250905T201829Z
LAST-MODIFIED:20250915T185547Z
UID:378183-1758796200-1758803400@ttfilmfestival.com
SUMMARY:FILM SCHOOL SHORTS 2
DESCRIPTION:Short films from student filmmakers around the Caribbean.
URL:https://ttfilmfestival.com/event/film-school-shorts-2/
LOCATION:Gemstone: Azure\, One Woodbrook Place\, Port of Spain\, Trinidad and Tobago
CATEGORIES:screening-multi-film
ATTACH;FMTTYPE=image/jpeg:https://ttfilmfestival.com/wp-content/uploads/2025/09/SCB_NW_WEB_FINAL_5.1_2023-10-15.01_07_00_19.Still007-Nande-Walters.jpg
END:VEVENT
BEGIN:VEVENT
DTSTART;TZID=America/Port_of_Spain:20250925T133000
DTEND;TZID=America/Port_of_Spain:20250925T153000
DTSTAMP:20260424T080236
CREATED:20250905T173932Z
LAST-MODIFIED:20250905T173932Z
UID:378116-1758807000-1758814200@ttfilmfestival.com
SUMMARY:GROW
DESCRIPTION:Rooted in local knowledge\, and sharpened against systems that mistake extraction for progress. This is land reclaimed as method\, as memory\, as future.
URL:https://ttfilmfestival.com/event/grow/
LOCATION:4DX Cinema\, One Woodbrook Place\, Port of Spain\, Trinidad and Tobago
CATEGORIES:screening-multi-film
ATTACH;FMTTYPE=image/jpeg:https://ttfilmfestival.com/wp-content/uploads/2025/09/RootsofResilience_CarooAfrifa_Still1-Yara-Ammar-scaled.jpg
END:VEVENT
BEGIN:VEVENT
DTSTART;TZID=America/Port_of_Spain:20250925T160000
DTEND;TZID=America/Port_of_Spain:20250925T173000
DTSTAMP:20260424T080236
CREATED:20250901T151911Z
LAST-MODIFIED:20250920T170911Z
UID:377772-1758816000-1758821400@ttfilmfestival.com
SUMMARY:HOLDING ON
DESCRIPTION:Coastal and rural workers are being squeezed out of the futures they’ve sustained for generations. This programme invites a reckoning: not with loss\, but with the systems making survival impossible.
URL:https://ttfilmfestival.com/event/holding-on/
LOCATION:IMAX Cinema\, One Woodbrook Place\, Port of Spain\, Trinidad and Tobago
CATEGORIES:screening-multi-film
ATTACH;FMTTYPE=image/png:https://ttfilmfestival.com/wp-content/uploads/2025/08/TRINITARIO-ON-THE-EDGE_SPECK_Still1-Denise-S.png
END:VEVENT
BEGIN:VEVENT
DTSTART;TZID=America/Port_of_Spain:20250925T163000
DTEND;TZID=America/Port_of_Spain:20250925T180000
DTSTAMP:20260424T080236
CREATED:20250908T233919Z
LAST-MODIFIED:20250920T164922Z
UID:378342-1758817800-1758823200@ttfilmfestival.com
SUMMARY:STRIDE: films from Trinidad and Tobago
DESCRIPTION:Art becomes motion\, and motion becomes a way to name where a nation stands and where it insists on going. There is a movement – finding stride through arts\, finding stride as a nation.
URL:https://ttfilmfestival.com/event/stride-2/
LOCATION:Gemstone: Amethyst\, One Woodbrook Place\, Port of Spain\, Trinidad and Tobago
CATEGORIES:screening-multi-film
ATTACH;FMTTYPE=image/jpeg:https://ttfilmfestival.com/wp-content/uploads/2025/08/Dancing-on-Steel-Film-Still-Humankind-Studios.jpeg
END:VEVENT
BEGIN:VEVENT
DTSTART;TZID=America/Port_of_Spain:20250925T200000
DTEND;TZID=America/Port_of_Spain:20250925T213000
DTSTAMP:20260424T080236
CREATED:20250905T180921Z
LAST-MODIFIED:20250920T172301Z
UID:378131-1758830400-1758835800@ttfilmfestival.com
SUMMARY:UNWRITTEN
DESCRIPTION:They weren’t written in\, so they write themselves back. Across borders\, timelines\, and bloodlines\, these works hold the line between silence and citation
URL:https://ttfilmfestival.com/event/unwritten/
LOCATION:Gemstone: Azure\, One Woodbrook Place\, Port of Spain\, Trinidad and Tobago
CATEGORIES:screening-multi-film
ATTACH;FMTTYPE=image/jpeg:https://ttfilmfestival.com/wp-content/uploads/2025/09/Zone_Filmstill_1-Simon-Shim-Sutcliffe-scaled.jpg
END:VEVENT
END:VCALENDAR