BEGIN:VCALENDAR
VERSION:2.0
PRODID:-//Trinidad &amp; Tobago Film Festival - ECPv6.15.20//NONSGML v1.0//EN
CALSCALE:GREGORIAN
METHOD:PUBLISH
X-ORIGINAL-URL:https://ttfilmfestival.com
X-WR-CALDESC:Events for Trinidad &amp; Tobago Film Festival
REFRESH-INTERVAL;VALUE=DURATION:PT1H
X-Robots-Tag:noindex
X-PUBLISHED-TTL:PT1H
BEGIN:VTIMEZONE
TZID:America/Port_of_Spain
BEGIN:STANDARD
TZOFFSETFROM:-0400
TZOFFSETTO:-0400
TZNAME:AST
DTSTART:20240101T000000
END:STANDARD
END:VTIMEZONE
BEGIN:VEVENT
DTSTART;TZID=America/Port_of_Spain:20250924T153000
DTEND;TZID=America/Port_of_Spain:20250924T173000
DTSTAMP:20260424T080237
CREATED:20250831T133827Z
LAST-MODIFIED:20250920T155915Z
UID:377714-1758727800-1758735000@ttfilmfestival.com
SUMMARY:STRIDE: films from Trinidad and Tobago
DESCRIPTION:Art becomes motion\, and motion becomes a way to name where a nation stands and where it insists on going. There is a movement – finding stride through arts\, finding stride as a nation.
URL:https://ttfilmfestival.com/event/stride-films-from-trinidad-and-tobago/
LOCATION:Gemstone: Azure\, One Woodbrook Place\, Port of Spain\, Trinidad and Tobago
CATEGORIES:screening-multi-film
ATTACH;FMTTYPE=image/jpeg:https://ttfilmfestival.com/wp-content/uploads/2025/08/Dancing-on-Steel-Film-Still-Humankind-Studios-1.jpeg
END:VEVENT
BEGIN:VEVENT
DTSTART;TZID=America/Port_of_Spain:20250924T153000
DTEND;TZID=America/Port_of_Spain:20250924T173000
DTSTAMP:20260424T080237
CREATED:20250904T185416Z
LAST-MODIFIED:20250920T165250Z
UID:378037-1758727800-1758735000@ttfilmfestival.com
SUMMARY:KAIRI : Films from Trinidad and Tobago
DESCRIPTION:Not a return. Not a beginning\, but the sound of our island that’s still here.
URL:https://ttfilmfestival.com/event/kairi-films-from-trinidad-and-tobago-2/
LOCATION:Cinema One: Chaguanas\, Rajkumar Rd\, Chaguanas\, Trinidad and Tobago
CATEGORIES:screening-multi-film
ATTACH;FMTTYPE=image/png:https://ttfilmfestival.com/wp-content/uploads/2025/09/NNNN-PRESS-STILLS_2.1.6-Oliver-Milne-2.png
END:VEVENT
BEGIN:VEVENT
DTSTART;TZID=America/Port_of_Spain:20250924T180000
DTEND;TZID=America/Port_of_Spain:20250924T200000
DTSTAMP:20260424T080237
CREATED:20250911T170122Z
LAST-MODIFIED:20250920T165123Z
UID:378418-1758736800-1758744000@ttfilmfestival.com
SUMMARY:KAIRI : Films from Trinidad and Tobago
DESCRIPTION:Not a return. Not a beginning\, but the sound of our island that’s still here.
URL:https://ttfilmfestival.com/event/kairi-films-from-trinidad-and-tobago-5/
LOCATION:Cinema One: San Fernando\, Gulf City Mall\, San Fernando\, Trinidad and Tobago
CATEGORIES:screening-multi-film
ATTACH;FMTTYPE=image/png:https://ttfilmfestival.com/wp-content/uploads/2025/09/NNNN-PRESS-STILLS_2.1.6-Oliver-Milne-2.png
END:VEVENT
BEGIN:VEVENT
DTSTART;TZID=America/Port_of_Spain:20250924T183000
DTEND;TZID=America/Port_of_Spain:20250924T200000
DTSTAMP:20260424T080237
CREATED:20250911T201102Z
LAST-MODIFIED:20250911T201331Z
UID:378328-1758738600-1758744000@ttfilmfestival.com
SUMMARY:RETROSPECTIVE 1
DESCRIPTION:The Retrospective programme centres and celebrates the film work of trailblazing Caribbean makers. For TTFF/25 we honour Trinidad and Tobago/Canada filmmaker\, Richard Fung. 
URL:https://ttfilmfestival.com/event/retrospective-1/
LOCATION:Gemstone: Azure\, One Woodbrook Place\, Port of Spain\, Trinidad and Tobago
CATEGORIES:screening-multi-film
ATTACH;FMTTYPE=image/png:https://ttfilmfestival.com/wp-content/uploads/2025/09/Screenshot-2025-09-08-180802.png
END:VEVENT
BEGIN:VEVENT
DTSTART;TZID=America/Port_of_Spain:20250924T183000
DTEND;TZID=America/Port_of_Spain:20250924T203000
DTSTAMP:20260424T080237
CREATED:20250911T165322Z
LAST-MODIFIED:20250920T170132Z
UID:378414-1758738600-1758745800@ttfilmfestival.com
SUMMARY:KAIRI : Films from Trinidad and Tobago
DESCRIPTION:Not a return. Not a beginning\, but the sound of our island that’s still here.
URL:https://ttfilmfestival.com/event/kairi-films-from-trinidad-and-tobago-4/
LOCATION:4DX Cinema\, One Woodbrook Place\, Port of Spain\, Trinidad and Tobago
CATEGORIES:screening-multi-film
ATTACH;FMTTYPE=image/png:https://ttfilmfestival.com/wp-content/uploads/2025/09/NNNN-PRESS-STILLS_2.1.6-Oliver-Milne-2.png
END:VEVENT
END:VCALENDAR