BEGIN:VCALENDAR
VERSION:2.0
PRODID:-//Trinidad &amp; Tobago Film Festival - ECPv6.15.20//NONSGML v1.0//EN
CALSCALE:GREGORIAN
METHOD:PUBLISH
X-WR-CALNAME:Trinidad &amp; Tobago Film Festival
X-ORIGINAL-URL:https://ttfilmfestival.com
X-WR-CALDESC:Events for Trinidad &amp; Tobago Film Festival
REFRESH-INTERVAL;VALUE=DURATION:PT1H
X-Robots-Tag:noindex
X-PUBLISHED-TTL:PT1H
BEGIN:VTIMEZONE
TZID:America/Port_of_Spain
BEGIN:STANDARD
TZOFFSETFROM:-0400
TZOFFSETTO:-0400
TZNAME:AST
DTSTART:20240101T000000
END:STANDARD
END:VTIMEZONE
BEGIN:VEVENT
DTSTART;TZID=America/Port_of_Spain:20250926T130000
DTEND;TZID=America/Port_of_Spain:20250926T140000
DTSTAMP:20260424T073551
CREATED:20250906T163446Z
LAST-MODIFIED:20250909T204221Z
UID:378213-1758891600-1758895200@ttfilmfestival.com
SUMMARY:Music Rights: The hidden deal breaker PANEL
DESCRIPTION:A powerful soundtrack can lift your film – but licensing mistakes can sink distribution. Join seasoned film producer\, Lorraine O’Connor for a sit-down with experts from TTCO and COTT for a critical session demystifying music rights. Learn how to clear tracks\, negotiate licenses\, and avoid costly legal pitfalls so your film reaches audiences without preventable roadblocks.\n \n🎫 THIS PANEL IS AVAILABLE TO INDUSTRY PASS HOLDERS \n🔗 ALL ACCESS INDUSTRY PASSES ARE AVAILABLE ONLINE ONLY AT ISLAND eTICKETS \n🔗 26 SEPT. INDUSTRY DAY PASSES AVAILABLE AT ISLAND eTICKETS
URL:https://ttfilmfestival.com/event/music-rights-the-overlooked-deal-breaker-panel/
LOCATION:Industry Room A\, One Woodbrook Place\, Port of Spain\, Trinidad and Tobago
CATEGORIES:Industry,Panel
ATTACH;FMTTYPE=image/jpeg:https://ttfilmfestival.com/wp-content/uploads/2025/09/Cropped-Lorraine-OConnor.jpg
END:VEVENT
BEGIN:VEVENT
DTSTART;TZID=America/Port_of_Spain:20250926T143000
DTEND;TZID=America/Port_of_Spain:20250926T160000
DTSTAMP:20260424T073551
CREATED:20250906T170417Z
LAST-MODIFIED:20250906T170417Z
UID:378222-1758897000-1758902400@ttfilmfestival.com
SUMMARY:Reframing: film as a  catalyst for change PANEL
DESCRIPTION:How can cinema challenge perceptions\, shift mindsets\, and inspire action? This dynamic conversation brings together filmmakers\, cultural practitioners\, and change-makers to explore the transformative power of storytelling. From confronting stereotypes to sparking empathy\, we’ll discuss how Caribbean cinema can influence hearts\, minds\, and our futures. \n \n🎫 THIS PANEL IS AVAILABLE TO INDUSTRY PASS HOLDERS \n🔗 ALL ACCESS INDUSTRY PASSES ARE AVAILABLE ONLINE ONLY AT ISLAND eTICKETS \n🔗 26 SEPT. INDUSTRY DAY PASSES AVAILABLE AT ISLAND eTICKETS \n 
URL:https://ttfilmfestival.com/event/reframing-film-as-a-catalyst-for-change-panel/
LOCATION:Industry Room A\, One Woodbrook Place\, Port of Spain\, Trinidad and Tobago
CATEGORIES:Industry,Panel
ATTACH;FMTTYPE=image/jpeg:https://ttfilmfestival.com/wp-content/uploads/2025/09/Mark-Thomas.jpg
END:VEVENT
BEGIN:VEVENT
DTSTART;TZID=America/Port_of_Spain:20250927T093000
DTEND;TZID=America/Port_of_Spain:20250927T104500
DTSTAMP:20260424T073551
CREATED:20250906T165647Z
LAST-MODIFIED:20250906T165647Z
UID:378218-1758965400-1758969900@ttfilmfestival.com
SUMMARY:Rethinking the gaze: subversion and sovereignty in Caribbean cinema PANEL
DESCRIPTION:The cinematic gaze is a powerful force that shapes narratives\, constructs identities\, and reinforces – or resists – dominant power structures. Whether patriarchal\, colonial\, or cultural\, the gaze is never neutral. Curator Ivonne Cotorruelo joins filmmakers Wally Fall\, Richard Fung\, and Nayibe Tavares to examine how Caribbean film can unsettle inherited visual languages and assert new ways of seeing. What does it mean to take control of the lens? How can filmmakers use the camera to challenge exclusionary frameworks\, centre historically overlooked perspectives\, and affirm the agency of their participants? This 75-minute conversation  invites reflection on cinematic strategies grounded in care\, complexity\, and sovereignty – highlighting a Caribbean vision that insists on being seen\, on its own terms. \n \n🎫 THIS PANEL IS AVAILABLE TO INDUSTRY PASS HOLDERS \n🔗 ALL ACCESS INDUSTRY PASSES ARE AVAILABLE ONLINE ONLY AT ISLAND eTICKETS \n🔗 27 SEPT. INDUSTRY DAY PASSES AVAILABLE AT ISLAND eTICKETS \n 
URL:https://ttfilmfestival.com/event/rethinking-the-gaze-subversion-and-sovereignty-in-caribbean-cinema-panel/
LOCATION:Industry Room A\, One Woodbrook Place\, Port of Spain\, Trinidad and Tobago
CATEGORIES:Industry,Panel
ATTACH;FMTTYPE=image/png:https://ttfilmfestival.com/wp-content/uploads/2025/09/Ivonne-Cotorruelo-headshot-2025.png
END:VEVENT
BEGIN:VEVENT
DTSTART;TZID=America/Port_of_Spain:20250927T110000
DTEND;TZID=America/Port_of_Spain:20250927T121500
DTSTAMP:20260424T073551
CREATED:20250904T192117Z
LAST-MODIFIED:20250909T203812Z
UID:378053-1758970800-1758975300@ttfilmfestival.com
SUMMARY:Locally resonant\, globally appealing: PANEL
DESCRIPTION:Can filmmakers craft stories that remain deeply rooted in Caribbean culture while captivating audiences around the world? This engaging panel unpacks the creative\, strategic\, and philosophical choices behind making films that are both culturally authentic and commercially viable. Hear from industry voices shaping cinema that’s locally powerful and universally compelling. \n🎫 THIS PANEL IS AVAILABLE TO INDUSTRY PASS HOLDERS \n🔗 ALL ACCESS INDUSTRY PASSES ARE AVAILABLE ONLINE ONLY AT ISLAND eTICKETS \n🔗 27 SEPT. INDUSTRY DAY PASSES AVAILABLE AT ISLAND eTICKETS \n 
URL:https://ttfilmfestival.com/event/locally-resonant-globally-appealing-panel/
LOCATION:Industry Room A\, One Woodbrook Place\, Port of Spain\, Trinidad and Tobago
CATEGORIES:Industry,Panel
ATTACH;FMTTYPE=image/jpeg:https://ttfilmfestival.com/wp-content/uploads/2025/09/Cropped-Renee-Robinson.jpg
END:VEVENT
BEGIN:VEVENT
DTSTART;TZID=America/Port_of_Spain:20250927T130000
DTEND;TZID=America/Port_of_Spain:20250927T141500
DTSTAMP:20260424T073551
CREATED:20250904T191039Z
LAST-MODIFIED:20250904T191411Z
UID:378044-1758978000-1758982500@ttfilmfestival.com
SUMMARY:AI: Tool for construction or weapon of destruction?: PANEL
DESCRIPTION:Like it or not\, artificial intelligence is reshaping the art and business of filmmaking — from story development and casting to production and post-production. This provocative panel brings together filmmakers\, technologists\, and cultural thinkers to debate AI’s ethical challenges and explore whether it is a creative partner\, a disruptive rival\, or a wholly new force shaping cinema’s future. \n \n🎫 THIS PANEL IS AVAILABLE TO INDUSTRY PASS HOLDERS \n🔗 ALL ACCESS INDUSTRY PASSES ARE AVAILABLE ONLINE ONLY AT ISLAND eTICKETS \n🔗 27 SEPT. INDUSTRY DAY PASSES AVAILABLE AT ISLAND eTICKETS \n 
URL:https://ttfilmfestival.com/event/ai-tool-for-construction-or-weapon-of-destruction-panel/
LOCATION:Industry Room A\, One Woodbrook Place\, Port of Spain\, Trinidad and Tobago
CATEGORIES:Industry,Panel
ATTACH;FMTTYPE=image/jpeg:https://ttfilmfestival.com/wp-content/uploads/2025/09/Mark-Lydersay-Headshot.jpg
END:VEVENT
END:VCALENDAR