BEGIN:VCALENDAR
VERSION:2.0
PRODID:-//Trinidad &amp; Tobago Film Festival - ECPv6.15.20//NONSGML v1.0//EN
CALSCALE:GREGORIAN
METHOD:PUBLISH
X-ORIGINAL-URL:https://ttfilmfestival.com
X-WR-CALDESC:Events for Trinidad &amp; Tobago Film Festival
REFRESH-INTERVAL;VALUE=DURATION:PT1H
X-Robots-Tag:noindex
X-PUBLISHED-TTL:PT1H
BEGIN:VTIMEZONE
TZID:America/Port_of_Spain
BEGIN:STANDARD
TZOFFSETFROM:-0400
TZOFFSETTO:-0400
TZNAME:AST
DTSTART:20240101T000000
END:STANDARD
END:VTIMEZONE
BEGIN:VEVENT
DTSTART;TZID=America/Port_of_Spain:20250927T093000
DTEND;TZID=America/Port_of_Spain:20250927T123000
DTSTAMP:20260425T080229
CREATED:20250906T210633Z
LAST-MODIFIED:20250906T210633Z
UID:378261-1758965400-1758976200@ttfilmfestival.com
SUMMARY:Screen industries experts and funders Reps from TTT\, CI5 Studios\, Caribbean Development Bank\, Parliament Channel  DROP-IN ONE-ON-ONES
DESCRIPTION:🎫 THESE DROP-IN ONE-ON-ONES ARE AVAILABLE TO INDUSTRY PASS HOLDERS \n🔗 ALL ACCESS INDUSTRY PASSES ARE AVAILABLE ONLINE ONLY AT ISLAND eTICKETS \n🔗 27 SEPT. INDUSTRY DAY PASSES AVAILABLE AT ISLAND eTICKETS
URL:https://ttfilmfestival.com/event/screen-industries-experts-and-funders-reps-from-ttt-ci5-studios-caribbean-development-bank-parliament-channel-drop-in-one-on-ones/
LOCATION:Industry Room C\, One Woodbrook Place\, Port of Spain\, Trinidad and Tobago
CATEGORIES:Drop-in One-on-Ones,Industry
END:VEVENT
BEGIN:VEVENT
DTSTART;TZID=America/Port_of_Spain:20250927T110000
DTEND;TZID=America/Port_of_Spain:20250927T121500
DTSTAMP:20260425T080229
CREATED:20250904T192117Z
LAST-MODIFIED:20250909T203812Z
UID:378053-1758970800-1758975300@ttfilmfestival.com
SUMMARY:Locally resonant\, globally appealing: PANEL
DESCRIPTION:Can filmmakers craft stories that remain deeply rooted in Caribbean culture while captivating audiences around the world? This engaging panel unpacks the creative\, strategic\, and philosophical choices behind making films that are both culturally authentic and commercially viable. Hear from industry voices shaping cinema that’s locally powerful and universally compelling. \n🎫 THIS PANEL IS AVAILABLE TO INDUSTRY PASS HOLDERS \n🔗 ALL ACCESS INDUSTRY PASSES ARE AVAILABLE ONLINE ONLY AT ISLAND eTICKETS \n🔗 27 SEPT. INDUSTRY DAY PASSES AVAILABLE AT ISLAND eTICKETS \n 
URL:https://ttfilmfestival.com/event/locally-resonant-globally-appealing-panel/
LOCATION:Industry Room A\, One Woodbrook Place\, Port of Spain\, Trinidad and Tobago
CATEGORIES:Industry,Panel
ATTACH;FMTTYPE=image/jpeg:https://ttfilmfestival.com/wp-content/uploads/2025/09/Cropped-Renee-Robinson.jpg
END:VEVENT
BEGIN:VEVENT
DTSTART;TZID=America/Port_of_Spain:20250927T130000
DTEND;TZID=America/Port_of_Spain:20250927T140000
DTSTAMP:20260425T080229
CREATED:20250906T172933Z
LAST-MODIFIED:20250906T172933Z
UID:378231-1758978000-1758981600@ttfilmfestival.com
SUMMARY:Rebate ready: A step-by-step guide for filmmakers PRESENTATION
DESCRIPTION:Thinking of filming in Trinidad & Tobago? This TTFF/25 session unpacks FilmTT’s Production Expenditure Rebate\, a world-class incentive that rewards international and local productions while boosting the national industry. Learn how to navigate the application process\, access financial returns\, and maximize the benefits that make Trinidad & Tobago a competitive\, creative filming destination. \n🎫 THIS PRESENTATION IS AVAILABLE TO INDUSTRY PASS HOLDERS \n🔗 ALL ACCESS INDUSTRY PASSES ARE AVAILABLE ONLINE ONLY AT ISLAND eTICKETS \n🔗 27 SEPT. INDUSTRY DAY PASSES AVAILABLE AT ISLAND eTICKETS \n 
URL:https://ttfilmfestival.com/event/rebate-ready-a-step-by-step-guide-for-filmmakers-presentation/
LOCATION:Industry Room B\, One Woodbrook Place\, Port of Spain\, Trinidad and Tobago
CATEGORIES:Industry,Presentation
ATTACH;FMTTYPE=image/png:https://ttfilmfestival.com/wp-content/uploads/2025/09/Screenshot-Danielle-Nivet.png
END:VEVENT
BEGIN:VEVENT
DTSTART;TZID=America/Port_of_Spain:20250927T130000
DTEND;TZID=America/Port_of_Spain:20250927T141500
DTSTAMP:20260425T080229
CREATED:20250904T191039Z
LAST-MODIFIED:20250904T191411Z
UID:378044-1758978000-1758982500@ttfilmfestival.com
SUMMARY:AI: Tool for construction or weapon of destruction?: PANEL
DESCRIPTION:Like it or not\, artificial intelligence is reshaping the art and business of filmmaking — from story development and casting to production and post-production. This provocative panel brings together filmmakers\, technologists\, and cultural thinkers to debate AI’s ethical challenges and explore whether it is a creative partner\, a disruptive rival\, or a wholly new force shaping cinema’s future. \n \n🎫 THIS PANEL IS AVAILABLE TO INDUSTRY PASS HOLDERS \n🔗 ALL ACCESS INDUSTRY PASSES ARE AVAILABLE ONLINE ONLY AT ISLAND eTICKETS \n🔗 27 SEPT. INDUSTRY DAY PASSES AVAILABLE AT ISLAND eTICKETS \n 
URL:https://ttfilmfestival.com/event/ai-tool-for-construction-or-weapon-of-destruction-panel/
LOCATION:Industry Room A\, One Woodbrook Place\, Port of Spain\, Trinidad and Tobago
CATEGORIES:Industry,Panel
ATTACH;FMTTYPE=image/jpeg:https://ttfilmfestival.com/wp-content/uploads/2025/09/Mark-Lydersay-Headshot.jpg
END:VEVENT
BEGIN:VEVENT
DTSTART;TZID=America/Port_of_Spain:20250927T130000
DTEND;TZID=America/Port_of_Spain:20250927T141500
DTSTAMP:20260425T080229
CREATED:20250906T200551Z
LAST-MODIFIED:20250926T165454Z
UID:378246-1758978000-1758982500@ttfilmfestival.com
SUMMARY:Richard Fung: forty years of radical intimacy TTFF TALK
DESCRIPTION:In conversation with Farrah Rahaman \nRichard Fung has been a leading light in Caribbean cinema for over four decades. His works are enmeshments with desire\, identity\, migration and home. By way of recipes and food ways\, tender familial representations\, community rooted video production\, and moving image portraits of artists\, he addresses cultural retention and hybridity\, race and belonging\, and sexual orientation and all of their slippages. Never pigeon-holed into one subject matter\, his practice is defined by ethical rigor\, close relationships\, and a sensitivity that betrays the omniscient voice of God documentarian. As Fung’s final piece of advice to his LGBTQ studio class at the Ontario College of Art and Design he shared\,  “If I leave you with anything to move ahead it’s the importance of curiosity and criticality.” In this talk we hold the breadth of Fung’s career\, journeying through his experiences as a filmmaker\, writer\, teacher and organizer\, and what he has learnt from a life of asking questions and finding meaning through video and writing. \n🎫 THIS TTFF TALK IS AVAILABLE TO INDUSTRY PASS HOLDERS \n🔗 ALL ACCESS INDUSTRY PASSES ARE AVAILABLE ONLINE ONLY AT ISLAND eTICKETS \n🔗 26 SEPT. INDUSTRY DAY PASSES AVAILABLE AT ISLAND eTICKETS
URL:https://ttfilmfestival.com/event/richard-fung-forty-years-of-radical-intimacy-ttff-talk/
LOCATION:Industry Room B\, One Woodbrook Place\, Port of Spain\, Trinidad and Tobago
CATEGORIES:Industry,TTFF Talk
ATTACH;FMTTYPE=image/jpeg:https://ttfilmfestival.com/wp-content/uploads/2025/09/RichardFung-portrait-wanda-vdStoop.jpg
END:VEVENT
BEGIN:VEVENT
DTSTART;TZID=America/Port_of_Spain:20250927T130000
DTEND;TZID=America/Port_of_Spain:20250927T160000
DTSTAMP:20260425T080229
CREATED:20250906T211013Z
LAST-MODIFIED:20250907T200938Z
UID:378264-1758978000-1758988800@ttfilmfestival.com
SUMMARY:Industry drop-ins
DESCRIPTION:📍TTFF industry area/ Industry Room C  | 27.09.2025\nOpen to Industry pass-holders | Pre-booking is advised \nConnect directly with seasoned professionals across filmmaking’s many facets – production\, funding\, broadcasting\, programming\, rebates\, facilitation\, and education. These informal one-on-one sessions are a unique chance to ask pressing questions\, gain tailored advice\, and forge valuable industry connections. Pre-book your slot and take purposeful steps toward transforming your creative vision into a successful screen reality. \n. \nFor TTFF/25 Industry\, we are offering a series of themed one-on-ones: personalised\, 15–20 minute meetings with industry and legal professionals that give filmmakers direct guidance\, tailored feedback\, and valuable networking opportunities. \n. \n🎫 THESE DROP-IN ONE-ON-ONES ARE AVAILABLE TO INDUSTRY PASS HOLDERS \n🔗 ALL ACCESS INDUSTRY PASSES ARE AVAILABLE ONLINE ONLY AT ISLAND eTICKETS \n🔗 27 SEPT. INDUSTRY DAY PASSES AVAILABLE AT ISLAND eTICKETS
URL:https://ttfilmfestival.com/event/screen-industries-experts-and-funders-reps-from-ngm-productions-costaatt-advance-dynamics-ltd-filmtt-drop-in-one-on-ones/
LOCATION:Industry Room C\, One Woodbrook Place\, Port of Spain\, Trinidad and Tobago
CATEGORIES:Drop-in One-on-Ones,Industry
ATTACH;FMTTYPE=image/jpeg:https://ttfilmfestival.com/wp-content/uploads/2025/09/2022-09-23_speed-dating_154002-00_catherine-sforza.jpg
END:VEVENT
BEGIN:VEVENT
DTSTART;TZID=America/Port_of_Spain:20250927T141500
DTEND;TZID=America/Port_of_Spain:20250927T161500
DTSTAMP:20260425T080229
CREATED:20250906T204633Z
LAST-MODIFIED:20250906T204633Z
UID:378257-1758982500-1758989700@ttfilmfestival.com
SUMMARY:Considering a TV Series? WORKSHOP
DESCRIPTION:🎫 THIS WORKSHOP IS AVAILABLE TO INDUSTRY PASS HOLDERS \n🔗 ALL ACCESS INDUSTRY PASSES ARE AVAILABLE ONLINE ONLY AT ISLAND eTICKETS \n🔗 27 SEPT. INDUSTRY DAY PASSES AVAILABLE AT ISLAND eTICKETS
URL:https://ttfilmfestival.com/event/considering-a-tv-series-workshop/
LOCATION:Industry Room B\, One Woodbrook Place\, Port of Spain\, Trinidad and Tobago
CATEGORIES:Industry,Workshop
ATTACH;FMTTYPE=image/jpeg:https://ttfilmfestival.com/wp-content/uploads/2025/09/DRobertson-Passport-Size-edit-20250711193436.jpg
END:VEVENT
BEGIN:VEVENT
DTSTART;TZID=America/Port_of_Spain:20250927T143000
DTEND;TZID=America/Port_of_Spain:20250927T163000
DTSTAMP:20260425T080229
CREATED:20250904T182424Z
LAST-MODIFIED:20250909T204134Z
UID:378010-1758983400-1758990600@ttfilmfestival.com
SUMMARY:Navigating the international festival circuit: WORKSHOP
DESCRIPTION:A smart festival strategy can make all the difference in a film’s journey. This practical\, insider-focused session will guide filmmakers through choosing the right festivals for your projects\, understanding what selection teams are really looking for\, and making the most of every opportunity while in market. From networking with decision-makers to leveraging festival buzz for lasting career impact\, you’ll learn tools and tactics to ensure your festival run opens doors long after the closing night. \n. \n🎫 THIS WORKSHOP IS AVAILABLE TO INDUSTRY PASS HOLDERS \n🔗 ALL ACCESS INDUSTRY PASSES ARE AVAILABLE ONLINE ONLY AT ISLAND eTICKETS \n🔗 27 SEPT. INDUSTRY DAY PASSES AVAILABLE AT ISLAND eTICKETS \n  \n 
URL:https://ttfilmfestival.com/event/navigating-the-international-festival-circuit-workshop/
LOCATION:Industry Room A\, One Woodbrook Place\, Port of Spain\, Trinidad and Tobago
CATEGORIES:Industry,Workshop
ATTACH;FMTTYPE=image/jpeg:https://ttfilmfestival.com/wp-content/uploads/2025/09/Cropped-Renee-Robinson.jpg
END:VEVENT
END:VCALENDAR