BEGIN:VCALENDAR
VERSION:2.0
PRODID:-//Trinidad &amp; Tobago Film Festival - ECPv6.15.20//NONSGML v1.0//EN
CALSCALE:GREGORIAN
METHOD:PUBLISH
X-ORIGINAL-URL:https://ttfilmfestival.com
X-WR-CALDESC:Events for Trinidad &amp; Tobago Film Festival
REFRESH-INTERVAL;VALUE=DURATION:PT1H
X-Robots-Tag:noindex
X-PUBLISHED-TTL:PT1H
BEGIN:VTIMEZONE
TZID:America/Port_of_Spain
BEGIN:STANDARD
TZOFFSETFROM:-0400
TZOFFSETTO:-0400
TZNAME:AST
DTSTART:20240101T000000
END:STANDARD
END:VTIMEZONE
BEGIN:VEVENT
DTSTART;TZID=America/Port_of_Spain:20250926T143000
DTEND;TZID=America/Port_of_Spain:20250926T153000
DTSTAMP:20260425T144204
CREATED:20250906T171544Z
LAST-MODIFIED:20250909T203634Z
UID:378226-1758897000-1758900600@ttfilmfestival.com
SUMMARY:Film Production Management unpacked PRESENTATION
DESCRIPTION:Step behind the scenes with Camille Parsons for a dynamic deep dive into the world of film production management—the engine that powers every successful shoot. From budgets and schedules to crews\, vendors\, and permits\, this session unpacks how strategic production management transforms creative vision into cinematic reality.  \n🎫 THIS PRESENTATION IS AVAILABLE TO INDUSTRY PASS HOLDERS \n🔗 ALL ACCESS INDUSTRY PASSES ARE AVAILABLE ONLINE ONLY AT ISLAND eTICKETS \n🔗 26 SEPT. INDUSTRY DAY PASSES AVAILABLE AT ISLAND eTICKETS
URL:https://ttfilmfestival.com/event/film-production-management-unpacked-presentation/
LOCATION:Industry Room B\, One Woodbrook Place\, Port of Spain\, Trinidad and Tobago
CATEGORIES:Industry,Presentation
ATTACH;FMTTYPE=image/jpeg:https://ttfilmfestival.com/wp-content/uploads/2025/09/Cropped-Camille-Parsons.jpg
END:VEVENT
BEGIN:VEVENT
DTSTART;TZID=America/Port_of_Spain:20250926T141500
DTEND;TZID=America/Port_of_Spain:20250926T161500
DTSTAMP:20260425T144204
CREATED:20250906T194533Z
LAST-MODIFIED:20250907T201425Z
UID:378241-1758896100-1758903300@ttfilmfestival.com
SUMMARY:Filmmakers' legal clinic | ONE-ON-ONES
DESCRIPTION:Clinic lead: Jason Nathu \n📍TTFF industry area/ Industry Room C | 26.09.2025\nOpen to Industry pass-holders | Pre-booking is advised \nNeed legal clarity on your film project? This clinic\, led by lawyers from the Hugh Wooding Law School\, offers filmmakers one-on-one\, personalised\, fifteen-minute consultations on the legal issues that matter most. Get targeted advice on contracts\, copyright\, trademarks\, licensing\, and other intellectual property concerns that impact your creative work. Whether you’re locking in talent\, securing rights\, or preparing for distribution\, this clinic provides practical\, expert guidance to help you protect your vision and navigate the business side of filmmaking with confidence. \n. \nFor TTFF/25 Industry\, we are offering a series of themed one-on-ones: personalised\, 15–20 minute meetings with industry and legal professionals that give filmmakers direct guidance\, tailored feedback\, and valuable networking opportunities. \n. \n🎫 DROP-IN ONE-ON-ONES ARE AVAILABLE TO INDUSTRY PASS HOLDERS \n🔗 ALL ACCESS INDUSTRY PASSES ARE AVAILABLE ONLINE ONLY AT ISLAND eTICKETS \n🔗 26 SEPT. INDUSTRY DAY PASSES AVAILABLE AT ISLAND eTICKETS
URL:https://ttfilmfestival.com/event/filmmakers-legal-clinic-drop-in-one-on-ones/
LOCATION:Industry Room C\, One Woodbrook Place\, Port of Spain\, Trinidad and Tobago
CATEGORIES:Drop-in One-on-Ones,Industry
ATTACH;FMTTYPE=image/jpeg:https://ttfilmfestival.com/wp-content/uploads/2025/09/2022-09-23_speed-dating_153305-00_catherine-sforza.jpg
END:VEVENT
BEGIN:VEVENT
DTSTART;TZID=America/Port_of_Spain:20250926T130000
DTEND;TZID=America/Port_of_Spain:20250926T140000
DTSTAMP:20260425T144204
CREATED:20250906T163446Z
LAST-MODIFIED:20250909T204221Z
UID:378213-1758891600-1758895200@ttfilmfestival.com
SUMMARY:Music Rights: The hidden deal breaker PANEL
DESCRIPTION:A powerful soundtrack can lift your film – but licensing mistakes can sink distribution. Join seasoned film producer\, Lorraine O’Connor for a sit-down with experts from TTCO and COTT for a critical session demystifying music rights. Learn how to clear tracks\, negotiate licenses\, and avoid costly legal pitfalls so your film reaches audiences without preventable roadblocks.\n \n🎫 THIS PANEL IS AVAILABLE TO INDUSTRY PASS HOLDERS \n🔗 ALL ACCESS INDUSTRY PASSES ARE AVAILABLE ONLINE ONLY AT ISLAND eTICKETS \n🔗 26 SEPT. INDUSTRY DAY PASSES AVAILABLE AT ISLAND eTICKETS
URL:https://ttfilmfestival.com/event/music-rights-the-overlooked-deal-breaker-panel/
LOCATION:Industry Room A\, One Woodbrook Place\, Port of Spain\, Trinidad and Tobago
CATEGORIES:Industry,Panel
ATTACH;FMTTYPE=image/jpeg:https://ttfilmfestival.com/wp-content/uploads/2025/09/Cropped-Lorraine-OConnor.jpg
END:VEVENT
BEGIN:VEVENT
DTSTART;TZID=America/Port_of_Spain:20250926T130000
DTEND;TZID=America/Port_of_Spain:20250926T140000
DTSTAMP:20260425T144204
CREATED:20250904T175516Z
LAST-MODIFIED:20250906T174413Z
UID:377990-1758891600-1758895200@ttfilmfestival.com
SUMMARY:Film Law 101: what every creator needs to know PRESENTATION
DESCRIPTION:Behind every great film is a solid legal foundation. This accessible\, information-packed session offers filmmakers a practical guide to the legal essentials that can make or break a project — from development through distribution. Participants will gain a clear understanding of copyright\, trademarks\, contracts\, licensing\, and rights management\, as well as tips for avoiding common pitfalls that can derail productions. Whether you’re an emerging filmmaker or an industry veteran\, you’ll leave equipped with the knowledge and tools to protect your work\, safeguard your collaborations\, and navigate the business of film with confidence.\n \n. \n🎫 THIS PRESENTATION IS AVAILABLE TO INDUSTRY PASS HOLDERS \n🔗 ALL ACCESS INDUSTRY PASSES ARE AVAILABLE ONLINE ONLY AT ISLAND eTICKETS \n🔗 26 SEPT. INDUSTRY DAY PASSES AVAILABLE AT ISLAND eTICKETS \n 
URL:https://ttfilmfestival.com/event/film-law-101-what-every-creator-needs-to-know/
LOCATION:Industry Room B\, One Woodbrook Place\, Port of Spain\, Trinidad and Tobago
CATEGORIES:Industry,Presentation
ATTACH;FMTTYPE=image/jpeg:https://ttfilmfestival.com/wp-content/uploads/2025/09/jn-photo-1.jpeg
END:VEVENT
BEGIN:VEVENT
DTSTART;TZID=America/Port_of_Spain:20250926T103000
DTEND;TZID=America/Port_of_Spain:20250926T120000
DTSTAMP:20260425T144204
CREATED:20250906T202014Z
LAST-MODIFIED:20250909T202150Z
UID:378253-1758882600-1758888000@ttfilmfestival.com
SUMMARY:Filming in T&T: Incentives That Work for You PRESENTATION
DESCRIPTION:🎫 THIS PRESENTATION IS AVAILABLE TO INDUSTRY PASS HOLDERS \n🔗 ALL ACCESS INDUSTRY PASSES ARE AVAILABLE ONLINE ONLY AT ISLAND eTICKETS \n🔗 26 SEPT. INDUSTRY DAY PASSES AVAILABLE AT ISLAND eTICKETS
URL:https://ttfilmfestival.com/event/filming-in-tt-incentives-that-work-for-you-presentation/
LOCATION:Industry Room B\, One Woodbrook Place\, Port of Spain\, Trinidad and Tobago
CATEGORIES:Industry,Presentation
ATTACH;FMTTYPE=image/jpeg:https://ttfilmfestival.com/wp-content/uploads/2025/09/cropped-Leslie-Ann-Wills-Caton.jpg
END:VEVENT
BEGIN:VEVENT
DTSTART;TZID=America/Port_of_Spain:20250926T100000
DTEND;TZID=America/Port_of_Spain:20250926T110000
DTSTAMP:20260425T144204
CREATED:20250906T201159Z
LAST-MODIFIED:20250925T161932Z
UID:378249-1758880800-1758884400@ttfilmfestival.com
SUMMARY:Greenlight Toolkit PRESENTATION
DESCRIPTION:This presentation unveils AI-powered tools\, techniques\, and research that supports financiers to actively invest in the creative economy. The Greenlight Toolkit project – a partnership of TidalRise and TTFF\, and funded by the UNESCO Creative Caribbean programme –  demonstrates beta testing on selected Caribbean film projects under development with our AI partner\, Largo.ai \n🎫 THIS PRESENTATION IS AVAILABLE TO INDUSTRY PASS HOLDERS \n🔗 ALL ACCESS INDUSTRY PASSES ARE AVAILABLE ONLINE ONLY AT ISLAND eTICKETS \n🔗 26 SEPT. INDUSTRY DAY PASSES AVAILABLE AT ISLAND eTICKETS
URL:https://ttfilmfestival.com/event/greenlight-toolkit-presentation-closed-session/
LOCATION:Gemstone: Amethyst\, One Woodbrook Place\, Port of Spain\, Trinidad and Tobago
CATEGORIES:Industry,Presentation
ATTACH;FMTTYPE=image/jpeg:https://ttfilmfestival.com/wp-content/uploads/2025/09/Cropped-Renee-Robinson.jpg
END:VEVENT
BEGIN:VEVENT
DTSTART;TZID=America/Port_of_Spain:20250926T093000
DTEND;TZID=America/Port_of_Spain:20250926T113000
DTSTAMP:20260425T144204
CREATED:20250903T014140Z
LAST-MODIFIED:20250906T171915Z
UID:377821-1758879000-1758886200@ttfilmfestival.com
SUMMARY:Seeing through the lens: MASTERCLASS
DESCRIPTION:Spanning geographies and generations\, Richard Fung’s body of work navigates identity\, memory\, and belonging across Trinidad\, Toronto\, and beyond. From exploring his Moruga-born mother’s life through the lens of postcolonial migration\, to tracing the journey of dal puri from Canada to Bihar\, to documenting queer Asian communities in Toronto – Fung’s films ask how we negotiate space\, visibility\, and relation. His subjects include the falsely accused\, the displaced\, the diasporic\, and the everyday – always treated with nuance and care.  \nIn this intimate session\, Fung shares excerpts from both his experimental and documentary films\, offering insight into the aesthetic and conceptual choices that shape his practice. He reflects on how visual storytelling can give ‘minor’ stories space to be seen and heard\, and how formal strategies – such as hybridity\, voice\, and fragmentation – can deepen our understanding of relationality. Whether mapping transnational journeys or quiet domestic moments\, Fung’s work challenges dominant frames and invites us to rethink how film can witness\, connect\, and intervene. \n. \n🎫 THIS MASTERCLASS IS AVAILABLE TO INDUSTRY PASS HOLDERS \n🔗 ALL ACCESS INDUSTRY PASSES ARE AVAILABLE ONLINE ONLY AT ISLAND eTICKETS \n🔗 26 SEPT. INDUSTRY DAY PASSES AVAILABLE AT ISLAND eTICKETS
URL:https://ttfilmfestival.com/event/seeing-through-the-lens-masterclass/
LOCATION:Gemstone: Emerald\, Cinema One\, Level Two\, One Woodbrook Place\, Port of Spain\, Trinidad and Tobago
CATEGORIES:Industry
ATTACH;FMTTYPE=image/jpeg:https://ttfilmfestival.com/wp-content/uploads/2025/09/RichardFung-portrait-wanda-vdStoop.jpg
END:VEVENT
BEGIN:VEVENT
DTSTART;TZID=America/Port_of_Spain:20250926T093000
DTEND;TZID=America/Port_of_Spain:20250926T110000
DTSTAMP:20260425T144204
CREATED:20250906T173737Z
LAST-MODIFIED:20250906T173737Z
UID:378235-1758879000-1758884400@ttfilmfestival.com
SUMMARY:Unlocking the Creative Industries Innovation Fund (CIIF) PRESENTATION
DESCRIPTION:Discover how the Caribbean Development Bank’s CIIF supports filmmakers through grant funding\, training\, and business development tools. With a focus on film and audio-visual industries\, CIIF helps producers\, directors\, and storytellers strengthen their projects and compete globally. Learn how this vital resource can fuel your creative vision. \n \n🎫 THIS PRESENTATION IS AVAILABLE TO INDUSTRY PASS HOLDERS \n🔗 ALL ACCESS INDUSTRY PASSES ARE AVAILABLE ONLINE ONLY AT ISLAND eTICKETS \n🔗 26 SEPT. INDUSTRY DAY PASSES AVAILABLE AT ISLAND eTICKETS \n 
URL:https://ttfilmfestival.com/event/unlocking-the-creative-industries-innovation-fund-ciif-presentation/
LOCATION:Industry Room B\, One Woodbrook Place\, Port of Spain\, Trinidad and Tobago
CATEGORIES:Industry,Presentation
ATTACH;FMTTYPE=image/jpeg:https://ttfilmfestival.com/wp-content/uploads/2025/09/Malene-Joseph_CIIF-Fund-Coordinator-Sept-2023.jpg
END:VEVENT
END:VCALENDAR